FILENAME: O4810623.NWS.1164434.tif
QUADRANGLE_NAME: LARSLAN NW
QUADRANT: NW
WEST_LONGITUDE: -106 15 0.00000
EAST_LONGITUDE: -106 11 15.00000
NORTH_LATITUDE: 48 45 0.00000
SOUTH_LATITUDE: 48 41 15.00000
PRODUCTION_DATE: 2001 9 15
RASTER_ORDER: LEFT_RIGHT/TOP_BOTTOM
BAND_ORGANIZATION: SINGLE FILE
BAND_CONTENT: BLACK&WHITE
BAND_CONTENT: UNDEFINED
BAND_CONTENT: UNDEFINED
BITS_PER_PIXEL: 8
SAMPLES_AND_LINES: 5362 7636
HORIZONTAL_DATUM: NAD83
HORIZONTAL_COORDINATE_SYSTEM: UTM
COORDINATE_ZONE: 13
HORIZONTAL_UNITS: meters
HORIZONTAL_RESOLUTION: 1.00000
SECONDARY_HORIZONTAL_DATUM: NAD27
XY_ORIGIN: 407654.00000 5400728.00000
SECONDARY_XY_ORIGIN: 407693.57600 5400505.42900
NATION: US
STATE: MT
NW_QUAD_CORNER_XY: 408116.07600 5400418.69700
NE_QUAD_CORNER_XY: 412710.18500 5400345.21400
SE_QUAD_CORNERY_XY: 412601.96500 5393397.91800
SW_QUAD_CORNER_XY: 408002.15900 5393471.42100
SECONDARY_NW_QUAD_XY: 408113.14000 5400199.72300
SECONDARY_NE_QUAD_XY: 412707.39600 5400126.23800
SECONDARY_SE_QUAD_XY: 412599.17600 5393178.94700
SECONDARY_SW_QUAD_XY: 407999.22300 5393252.45200
RMSE_XY: 3.85000
IMAGE_SOURCE: BLACK AND WHITE FILM
SOURCE_IMAGE_ID: NAPP 9122-094
SOURCE_IMAGE_DATE: 1996 9 11
SOURCE_DEM_DATE: 1998 0 0
AGENCY: WESTERN MAPPING CENTER (WMC)
PRODUCER: WOOLPERT LLP
PRODUCTION_SYSTEM: INTERGRAPH ISPM, ISIR
COMPRESSION: UNDEFINED
STANDARD_VERSION: 1996 12
METADATA_DATE: 2001 9 15
DATA_FILE_SIZE: 40949594
BYTE_COUNT: 5362
