FILENAME: O4810623.SWS.1164436.tif
QUADRANGLE_NAME: LARSLAN NW
QUADRANT: SW
WEST_LONGITUDE: -106 15 0.00000
EAST_LONGITUDE: -106 11 15.00000
NORTH_LATITUDE: 48 41 15.00000
SOUTH_LATITUDE: 48 37 30.00000
PRODUCTION_DATE: 2001 9 15
RASTER_ORDER: LEFT_RIGHT/TOP_BOTTOM
BAND_ORGANIZATION: SINGLE FILE
BAND_CONTENT: BLACK&WHITE
BAND_CONTENT: UNDEFINED
BAND_CONTENT: UNDEFINED
BITS_PER_PIXEL: 8
SAMPLES_AND_LINES: 5367 7636
HORIZONTAL_DATUM: NAD83
HORIZONTAL_COORDINATE_SYSTEM: UTM
COORDINATE_ZONE: 13
HORIZONTAL_UNITS: meters
HORIZONTAL_RESOLUTION: 1.00000
SECONDARY_HORIZONTAL_DATUM: NAD27
XY_ORIGIN: 407540.00000 5393781.00000
SECONDARY_XY_ORIGIN: 407579.63700 5393558.44800
NATION: US
STATE: MT
NW_QUAD_CORNER_XY: 408002.15900 5393471.42100
NE_QUAD_CORNER_XY: 412601.96500 5393397.91800
SE_QUAD_CORNERY_XY: 412493.85000 5386450.69400
SW_QUAD_CORNER_XY: 407888.35300 5386524.21800
SECONDARY_NW_QUAD_XY: 407999.22300 5393252.45200
SECONDARY_NE_QUAD_XY: 412599.17600 5393178.94700
SECONDARY_SE_QUAD_XY: 412491.06100 5386231.72900
SECONDARY_SW_QUAD_XY: 407885.41700 5386305.25500
RMSE_XY: 3.43000
IMAGE_SOURCE: BLACK AND WHITE FILM
SOURCE_IMAGE_ID: NAPP 9122-096
SOURCE_IMAGE_DATE: 1996 9 11
SOURCE_DEM_DATE: 1998 0 0
AGENCY: WESTERN MAPPING CENTER (WMC)
PRODUCER: WOOLPERT LLP
PRODUCTION_SYSTEM: INTERGRAPH ISPM, ISIR
COMPRESSION: UNDEFINED
STANDARD_VERSION: 1996 12
METADATA_DATE: 2001 9 15
DATA_FILE_SIZE: 40987779
BYTE_COUNT: 5367
