FILENAME: O4810622.NES.1164421.tif
QUADRANGLE_NAME: BAYLOR NE
QUADRANT: NE
WEST_LONGITUDE: -106 18 45.00000
EAST_LONGITUDE: -106 15 0.00000
NORTH_LATITUDE: 48 45 0.00000
SOUTH_LATITUDE: 48 41 15.00000
PRODUCTION_DATE: 2001 9 15
RASTER_ORDER: LEFT_RIGHT/TOP_BOTTOM
BAND_ORGANIZATION: SINGLE FILE
BAND_CONTENT: BLACK&WHITE
BAND_CONTENT: UNDEFINED
BAND_CONTENT: UNDEFINED
BITS_PER_PIXEL: 8
SAMPLES_AND_LINES: 5368 7639
HORIZONTAL_DATUM: NAD83
HORIZONTAL_COORDINATE_SYSTEM: UTM
COORDINATE_ZONE: 13
HORIZONTAL_UNITS: meters
HORIZONTAL_RESOLUTION: 1.00000
SECONDARY_HORIZONTAL_DATUM: NAD27
XY_ORIGIN: 403054.00000 5400805.00000
SECONDARY_XY_ORIGIN: 403093.60700 5400582.42400
NATION: US
STATE: MT
NW_QUAD_CORNER_XY: 403521.98200 5400495.94900
NE_QUAD_CORNER_XY: 408116.07600 5400418.69700
SE_QUAD_CORNERY_XY: 408002.15900 5393471.42100
SW_QUAD_CORNER_XY: 403402.36700 5393548.69500
SECONDARY_NW_QUAD_XY: 403518.89900 5400276.97700
SECONDARY_NE_QUAD_XY: 408113.14000 5400199.72300
SECONDARY_SE_QUAD_XY: 407999.22300 5393252.45200
SECONDARY_SW_QUAD_XY: 403399.28400 5393329.72800
RMSE_XY: 4.57000
IMAGE_SOURCE: BLACK AND WHITE FILM
SOURCE_IMAGE_ID: NAPP 9122-077
SOURCE_IMAGE_DATE: 1996 9 11
SOURCE_DEM_DATE: 1998 0 0
AGENCY: WESTERN MAPPING CENTER (WMC)
PRODUCER: WOOLPERT LLP
PRODUCTION_SYSTEM: INTERGRAPH ISPM, ISIR
COMPRESSION: UNDEFINED
STANDARD_VERSION: 1996 12
METADATA_DATE: 2001 9 15
DATA_FILE_SIZE: 41011520
BYTE_COUNT: 5368
