FILENAME: O4810622.SES.1164423.tif
QUADRANGLE_NAME: BAYLOR NE
QUADRANT: SE
WEST_LONGITUDE: -106 18 45.00000
EAST_LONGITUDE: -106 15 0.00000
NORTH_LATITUDE: 48 41 15.00000
SOUTH_LATITUDE: 48 37 30.00000
PRODUCTION_DATE: 2001 11 12
RASTER_ORDER: LEFT_RIGHT/TOP_BOTTOM
BAND_ORGANIZATION: SINGLE FILE
BAND_CONTENT: BLACK&WHITE
BAND_CONTENT: UNDEFINED
BAND_CONTENT: UNDEFINED
BITS_PER_PIXEL: 8
SAMPLES_AND_LINES: 5373 7639
HORIZONTAL_DATUM: NAD83
HORIZONTAL_COORDINATE_SYSTEM: UTM
COORDINATE_ZONE: 13
HORIZONTAL_UNITS: METERS
HORIZONTAL_RESOLUTION: 1.00000
SECONDARY_HORIZONTAL_DATUM: NAD27
XY_ORIGIN: 402935.00000 5393858.00000
SECONDARY_XY_ORIGIN: 402974.67400 5393635.43500
NATION: US
STATE: MT
NW_QUAD_CORNER_XY: 403402.36700 5393548.69500
NE_QUAD_CORNER_XY: 408002.15900 5393471.42100
SE_QUAD_CORNERY_XY: 407888.35300 5386524.21800
SW_QUAD_CORNER_XY: 403282.86900 5386601.51300
SECONDARY_NW_QUAD_XY: 403399.28400 5393329.72800
SECONDARY_NE_QUAD_XY: 407999.22300 5393252.45200
SECONDARY_SE_QUAD_XY: 407885.41700 5386305.25500
SECONDARY_SW_QUAD_XY: 403279.78600 5386382.55200
RMSE_XY: 2.72000
IMAGE_SOURCE: BLACK AND WHITE FILM
SOURCE_IMAGE_ID: NAPP 9122-075
SOURCE_IMAGE_DATE: 1996 9 11
SOURCE_DEM_DATE: 1998 0 0
AGENCY: WESTERN MAPPING CENTER (WMC)
PRODUCER: WOOLPERT LLP
PRODUCTION_SYSTEM: INTERGRAPH ISPM, ISIR
COMPRESSION: UNDEFINED
STANDARD_VERSION: 1996 12
METADATA_DATE: 2001 11 12
DATA_FILE_SIZE: 41049720
BYTE_COUNT: 5373
