FILENAME: O4810621.SES.1164375.tif
QUADRANGLE_NAME: BAYLOR
QUADRANT: SE
WEST_LONGITUDE: -106 26 15.00000
EAST_LONGITUDE: -106 22 30.00000
NORTH_LATITUDE: 48 41 15.00000
SOUTH_LATITUDE: 48 37 30.00000
PRODUCTION_DATE: 2001 9 15
RASTER_ORDER: LEFT_RIGHT/TOP_BOTTOM
BAND_ORGANIZATION: SINGLE FILE
BAND_CONTENT: BLACK&WHITE
BAND_CONTENT: UNDEFINED
BAND_CONTENT: UNDEFINED
BITS_PER_PIXEL: 8
SAMPLES_AND_LINES: 5385 7647
HORIZONTAL_DATUM: NAD83
HORIZONTAL_COORDINATE_SYSTEM: UTM
COORDINATE_ZONE: 13
HORIZONTAL_UNITS: meters
HORIZONTAL_RESOLUTION: 1.00000
SECONDARY_HORIZONTAL_DATUM: NAD27
XY_ORIGIN: 393723.00000 5394024.00000
SECONDARY_XY_ORIGIN: 393762.74900 5393801.40400
NATION: US
STATE: MT
NW_QUAD_CORNER_XY: 394202.82800 5393714.55400
NE_QUAD_CORNER_XY: 398802.59000 5393629.73900
SE_QUAD_CORNERY_XY: 398677.39900 5386682.57900
SW_QUAD_CORNER_XY: 394071.94500 5386767.41800
SECONDARY_NW_QUAD_XY: 394199.45100 5393495.59300
SECONDARY_NE_QUAD_XY: 398799.36000 5393410.77500
SECONDARY_SE_QUAD_XY: 398674.16900 5386463.62200
SECONDARY_SW_QUAD_XY: 394068.56800 5386548.46300
RMSE_XY: 4.82000
IMAGE_SOURCE: BLACK AND WHITE FILM
SOURCE_IMAGE_ID: NAPP 9109-205
SOURCE_IMAGE_DATE: 1996 8 11
SOURCE_DEM_DATE: 1998 0 0
AGENCY: WESTERN MAPPING CENTER (WMC)
PRODUCER: WOOLPERT LLP
PRODUCTION_SYSTEM: INTERGRAPH ISPM, ISIR
COMPRESSION: UNDEFINED
STANDARD_VERSION: 1996 12
METADATA_DATE: 2001 9 15
DATA_FILE_SIZE: 41184480
BYTE_COUNT: 5385
