FILENAME: O4810620.NES.1160118.tif
QUADRANGLE_NAME: WARDS DAM
QUADRANT: NE
WEST_LONGITUDE: -106 33 45.00000
EAST_LONGITUDE: -106 30 0.00000
NORTH_LATITUDE: 48 45 0.00000
SOUTH_LATITUDE: 48 41 15.00000
PRODUCTION_DATE: 2001 8 23
RASTER_ORDER: LEFT_RIGHT/TOP_BOTTOM
BAND_ORGANIZATION: SINGLE FILE
BAND_CONTENT: BLACK&WHITE
BAND_CONTENT: UNDEFINED
BAND_CONTENT: UNDEFINED
BITS_PER_PIXEL: 8
SAMPLES_AND_LINES: 5391 7654
HORIZONTAL_DATUM: NAD83
HORIZONTAL_COORDINATE_SYSTEM: UTM
COORDINATE_ZONE: 13
HORIZONTAL_UNITS: meters
HORIZONTAL_RESOLUTION: 1.00000
SECONDARY_HORIZONTAL_DATUM: NAD27
XY_ORIGIN: 384654.00000 5401152.00000
SECONDARY_XY_ORIGIN: 384693.77500 5400929.45000
NATION: US
STATE: MT
NW_QUAD_CORNER_XY: 385145.75900 5400842.65300
NE_QUAD_CORNER_XY: 389739.79000 5400750.32200
SE_QUAD_CORNERY_XY: 389603.08200 5393803.14000
SW_QUAD_CORNER_XY: 385003.35200 5393895.49700
SECONDARY_NW_QUAD_XY: 385142.08800 5400623.69200
SECONDARY_NE_QUAD_XY: 389736.26600 5400531.35800
SECONDARY_SE_QUAD_XY: 389599.55800 5393584.18100
SECONDARY_SW_QUAD_XY: 384999.68200 5393676.54100
RMSE_XY: 4.63000
IMAGE_SOURCE: BLACK AND WHITE FILM
SOURCE_IMAGE_ID: NAPP 9110-129
SOURCE_IMAGE_DATE: 1996 8 11
SOURCE_DEM_DATE: 1998 0 0
AGENCY: WESTERN MAPPING CENTER (WMC)
PRODUCER: WOOLPERT LLP
PRODUCTION_SYSTEM: INTERGRAPH ISPM, ISIR
COMPRESSION: UNDEFINED
STANDARD_VERSION: 1996 12
METADATA_DATE: 2001 8 23
DATA_FILE_SIZE: 41268105
BYTE_COUNT: 5391
