FILENAME: O4810620.NWS.1160119.tif
QUADRANGLE_NAME: WARDS DAM
QUADRANT: NW
WEST_LONGITUDE: -106 37 30.00000
EAST_LONGITUDE: -106 33 45.00000
NORTH_LATITUDE: 48 45 0.00000
SOUTH_LATITUDE: 48 41 15.00000
PRODUCTION_DATE: 2001 8 23
RASTER_ORDER: LEFT_RIGHT/TOP_BOTTOM
BAND_ORGANIZATION: SINGLE FILE
BAND_CONTENT: BLACK&WHITE
BAND_CONTENT: UNDEFINED
BAND_CONTENT: UNDEFINED
BITS_PER_PIXEL: 8
SAMPLES_AND_LINES: 5397 7658
HORIZONTAL_DATUM: NAD83
HORIZONTAL_COORDINATE_SYSTEM: UTM
COORDINATE_ZONE: 13
HORIZONTAL_UNITS: meters
HORIZONTAL_RESOLUTION: 1.00000
SECONDARY_HORIZONTAL_DATUM: NAD27
XY_ORIGIN: 380054.00000 5401248.00000
SECONDARY_XY_ORIGIN: 380093.84500 5401025.50600
NATION: US
STATE: MT
NW_QUAD_CORNER_XY: 380551.74600 5400938.75400
NE_QUAD_CORNER_XY: 385145.75900 5400842.65300
SE_QUAD_CORNERY_XY: 385003.35200 5393895.49700
SW_QUAD_CORNER_XY: 380403.64000 5393991.62500
SECONDARY_NW_QUAD_XY: 380547.92800 5400719.79600
SECONDARY_NE_QUAD_XY: 385142.08800 5400623.69200
SECONDARY_SE_QUAD_XY: 384999.68200 5393676.54100
SECONDARY_SW_QUAD_XY: 380399.82300 5393772.67200
RMSE_XY: 4.12000
IMAGE_SOURCE: BLACK AND WHITE FILM
SOURCE_IMAGE_ID: NAPP 9110-150
SOURCE_IMAGE_DATE: 1996 8 11
SOURCE_DEM_DATE: 1998 0 0
AGENCY: WESTERN MAPPING CENTER (WMC)
PRODUCER: WOOLPERT LLP
PRODUCTION_SYSTEM: INTERGRAPH ISPM, ISIR
COMPRESSION: UNDEFINED
STANDARD_VERSION: 1996 12
METADATA_DATE: 2001 8 23
DATA_FILE_SIZE: 41335623
BYTE_COUNT: 5397
