FILENAME: O4810620.SES.1160120.tif
QUADRANGLE_NAME: WARDS DAM
QUADRANT: SE
WEST_LONGITUDE: -106 33 45.00000
EAST_LONGITUDE: -106 30 0.00000
NORTH_LATITUDE: 48 41 15.00000
SOUTH_LATITUDE: 48 37 30.00000
PRODUCTION_DATE: 2001 8 23
RASTER_ORDER: LEFT_RIGHT/TOP_BOTTOM
BAND_ORGANIZATION: SINGLE FILE
BAND_CONTENT: BLACK&WHITE
BAND_CONTENT: UNDEFINED
BAND_CONTENT: UNDEFINED
BITS_PER_PIXEL: 8
SAMPLES_AND_LINES: 5397 7654
HORIZONTAL_DATUM: NAD83
HORIZONTAL_COORDINATE_SYSTEM: UTM
COORDINATE_ZONE: 13
HORIZONTAL_UNITS: meters
HORIZONTAL_RESOLUTION: 1.00000
SECONDARY_HORIZONTAL_DATUM: NAD27
XY_ORIGIN: 384512.00000 5394205.00000
SECONDARY_XY_ORIGIN: 384551.86600 5393982.46500
NATION: US
STATE: MT
NW_QUAD_CORNER_XY: 385003.35200 5393895.49700
NE_QUAD_CORNER_XY: 389603.08200 5393803.14000
SE_QUAD_CORNERY_XY: 389466.50600 5386856.02800
SW_QUAD_CORNER_XY: 384861.08400 5386948.41100
SECONDARY_NW_QUAD_XY: 384999.68200 5393676.54100
SECONDARY_NE_QUAD_XY: 389599.55800 5393584.18100
SECONDARY_SE_QUAD_XY: 389462.98300 5386637.07600
SECONDARY_SW_QUAD_XY: 384857.41300 5386729.46100
RMSE_XY: 3.48000
IMAGE_SOURCE: BLACK AND WHITE FILM
SOURCE_IMAGE_ID: NAPP 9110-127
SOURCE_IMAGE_DATE: 1996 8 11
SOURCE_DEM_DATE: 1998 0 0
AGENCY: WESTERN MAPPING CENTER (WMC)
PRODUCER: WOOLPERT LLP
PRODUCTION_SYSTEM: INTERGRAPH ISPM, ISIR
COMPRESSION: UNDEFINED
STANDARD_VERSION: 1996 12
METADATA_DATE: 2001 8 23
DATA_FILE_SIZE: 41314035
BYTE_COUNT: 5397
