FILENAME: O4810620.SWS.1160121.tif
QUADRANGLE_NAME: WARDS DAM
QUADRANT: SW
WEST_LONGITUDE: -106 37 30.00000
EAST_LONGITUDE: -106 33 45.00000
NORTH_LATITUDE: 48 41 15.00000
SOUTH_LATITUDE: 48 37 30.00000
PRODUCTION_DATE: 2001 8 23
RASTER_ORDER: LEFT_RIGHT/TOP_BOTTOM
BAND_ORGANIZATION: SINGLE FILE
BAND_CONTENT: BLACK&WHITE
BAND_CONTENT: UNDEFINED
BAND_CONTENT: UNDEFINED
BITS_PER_PIXEL: 8
SAMPLES_AND_LINES: 5403 7658
HORIZONTAL_DATUM: NAD83
HORIZONTAL_COORDINATE_SYSTEM: UTM
COORDINATE_ZONE: 13
HORIZONTAL_UNITS: meters
HORIZONTAL_RESOLUTION: 1.00000
SECONDARY_HORIZONTAL_DATUM: NAD27
XY_ORIGIN: 379906.00000 5394301.00000
SECONDARY_XY_ORIGIN: 379945.94100 5394078.53300
NATION: US
STATE: MT
NW_QUAD_CORNER_XY: 380403.64000 5393991.62500
NE_QUAD_CORNER_XY: 385003.35200 5393895.49700
SE_QUAD_CORNERY_XY: 384861.08400 5386948.41100
SW_QUAD_CORNER_XY: 380255.67900 5387044.56500
SECONDARY_NW_QUAD_XY: 380399.82300 5393772.67200
SECONDARY_NE_QUAD_XY: 384999.68200 5393676.54100
SECONDARY_SE_QUAD_XY: 384857.41300 5386729.46100
SECONDARY_SW_QUAD_XY: 380251.86200 5386825.61900
RMSE_XY: 4.15000
IMAGE_SOURCE: BLACK AND WHITE FILM
SOURCE_IMAGE_ID: NAPP 9110-152
SOURCE_IMAGE_DATE: 1996 8 11
SOURCE_DEM_DATE: 1998 0 0
AGENCY: WESTERN MAPPING CENTER (WMC)
PRODUCER: WOOLPERT LLP
PRODUCTION_SYSTEM: INTERGRAPH ISPM, ISIR
COMPRESSION: UNDEFINED
STANDARD_VERSION: 1996 12
METADATA_DATE: 2001 8 23
DATA_FILE_SIZE: 41381577
BYTE_COUNT: 5403
