FILENAME: O4810619.NES.1160106.tif
QUADRANGLE_NAME: KERR COW CAMP
QUADRANT: NE
WEST_LONGITUDE: -106 41 15.00000
EAST_LONGITUDE: -106 37 30.00000
NORTH_LATITUDE: 48 45 0.00000
SOUTH_LATITUDE: 48 41 15.00000
PRODUCTION_DATE: 2001 8 23
RASTER_ORDER: LEFT_RIGHT/TOP_BOTTOM
BAND_ORGANIZATION: SINGLE FILE
BAND_CONTENT: BLACK&WHITE
BAND_CONTENT: UNDEFINED
BAND_CONTENT: UNDEFINED
BITS_PER_PIXEL: 8
SAMPLES_AND_LINES: 5403 7662
HORIZONTAL_DATUM: NAD83
HORIZONTAL_COORDINATE_SYSTEM: UTM
COORDINATE_ZONE: 13
HORIZONTAL_UNITS: meters
HORIZONTAL_RESOLUTION: 1.00000
SECONDARY_HORIZONTAL_DATUM: NAD27
XY_ORIGIN: 375454.00000 5401348.00000
SECONDARY_XY_ORIGIN: 375493.91600 5401125.56100
NATION: US
STATE: MT
NW_QUAD_CORNER_XY: 375957.75100 5401038.62500
NE_QUAD_CORNER_XY: 380551.74600 5400938.75400
SE_QUAD_CORNERY_XY: 380403.64000 5393991.62500
SW_QUAD_CORNER_XY: 375803.94700 5394091.52400
SECONDARY_NW_QUAD_XY: 375953.78700 5400819.67100
SECONDARY_NE_QUAD_XY: 380547.92800 5400719.79600
SECONDARY_SE_QUAD_XY: 380399.82300 5393772.67200
SECONDARY_SW_QUAD_XY: 375799.98300 5393872.57500
RMSE_XY: 4.09000
IMAGE_SOURCE: BLACK AND WHITE FILM
SOURCE_IMAGE_ID: NAPP 9111-147
SOURCE_IMAGE_DATE: 1996 8 11
SOURCE_DEM_DATE: 1994 0 0
AGENCY: WESTERN MAPPING CENTER (WMC)
PRODUCER: WOOLPERT LLP
PRODUCTION_SYSTEM: INTERGRAPH ISPM, ISIR
COMPRESSION: UNDEFINED
STANDARD_VERSION: 1996 12
METADATA_DATE: 2001 8 23
DATA_FILE_SIZE: 41403189
BYTE_COUNT: 5403
