FILENAME: O4810619.NWS.1160107.tif
QUADRANGLE_NAME: KERR COW CAMP
QUADRANT: NW
WEST_LONGITUDE: -106 45 0.00000
EAST_LONGITUDE: -106 41 15.00000
NORTH_LATITUDE: 48 45 0.00000
SOUTH_LATITUDE: 48 41 15.00000
PRODUCTION_DATE: 2001 8 23
RASTER_ORDER: LEFT_RIGHT/TOP_BOTTOM
BAND_ORGANIZATION: SINGLE FILE
BAND_CONTENT: BLACK&WHITE
BAND_CONTENT: UNDEFINED
BAND_CONTENT: UNDEFINED
BITS_PER_PIXEL: 8
SAMPLES_AND_LINES: 5408 7665
HORIZONTAL_DATUM: NAD83
HORIZONTAL_COORDINATE_SYSTEM: UTM
COORDINATE_ZONE: 13
HORIZONTAL_UNITS: meters
HORIZONTAL_RESOLUTION: 1.00000
SECONDARY_HORIZONTAL_DATUM: NAD27
XY_ORIGIN: 370855.00000 5401451.00000
SECONDARY_XY_ORIGIN: 370894.98800 5401228.62100
NATION: US
STATE: MT
NW_QUAD_CORNER_XY: 371363.77500 5401142.26700
NE_QUAD_CORNER_XY: 375957.75100 5401038.62500
SE_QUAD_CORNERY_XY: 375803.94700 5394091.52400
SW_QUAD_CORNER_XY: 371204.27200 5394195.19500
SECONDARY_NW_QUAD_XY: 371359.66400 5400923.31600
SECONDARY_NE_QUAD_XY: 375953.78700 5400819.67100
SECONDARY_SE_QUAD_XY: 375799.98300 5393872.57500
SECONDARY_SW_QUAD_XY: 371200.16100 5393976.24900
RMSE_XY: 4.23000
IMAGE_SOURCE: BLACK AND WHITE FILM
SOURCE_IMAGE_ID: NAPP 9111-168
SOURCE_IMAGE_DATE: 1996 8 11
SOURCE_DEM_DATE: 1994 0 0
AGENCY: WESTERN MAPPING CENTER (WMC)
PRODUCER: WOOLPERT LLP
PRODUCTION_SYSTEM: INTERGRAPH ISPM, ISIR
COMPRESSION: UNDEFINED
STANDARD_VERSION: 1996 12
METADATA_DATE: 2001 8 23
DATA_FILE_SIZE: 41457728
BYTE_COUNT: 5408
