FILENAME: O4810619.SES.1160108.tif
QUADRANGLE_NAME: KERR COW CAMP
QUADRANT: SE
WEST_LONGITUDE: -106 41 15.00000
EAST_LONGITUDE: -106 37 30.00000
NORTH_LATITUDE: 48 41 15.00000
SOUTH_LATITUDE: 48 37 30.00000
PRODUCTION_DATE: 2001 8 23
RASTER_ORDER: LEFT_RIGHT/TOP_BOTTOM
BAND_ORGANIZATION: SINGLE FILE
BAND_CONTENT: BLACK&WHITE
BAND_CONTENT: UNDEFINED
BAND_CONTENT: UNDEFINED
BITS_PER_PIXEL: 8
SAMPLES_AND_LINES: 5408 7661
HORIZONTAL_DATUM: NAD83
HORIZONTAL_COORDINATE_SYSTEM: UTM
COORDINATE_ZONE: 13
HORIZONTAL_UNITS: meters
HORIZONTAL_RESOLUTION: 1.00000
SECONDARY_HORIZONTAL_DATUM: NAD27
XY_ORIGIN: 375301.00000 5394400.00000
SECONDARY_XY_ORIGIN: 375341.01600 5394177.60100
NATION: US
STATE: MT
NW_QUAD_CORNER_XY: 375803.94700 5394091.52400
NE_QUAD_CORNER_XY: 380403.64000 5393991.62500
SE_QUAD_CORNERY_XY: 380255.67900 5387044.56500
SW_QUAD_CORNER_XY: 375650.29100 5387144.49200
SECONDARY_NW_QUAD_XY: 375799.98300 5393872.57500
SECONDARY_NE_QUAD_XY: 380399.82300 5393772.67200
SECONDARY_SE_QUAD_XY: 380251.86200 5386825.61900
SECONDARY_SW_QUAD_XY: 375646.32800 5386925.54900
RMSE_XY: 4.52000
IMAGE_SOURCE: BLACK AND WHITE FILM
SOURCE_IMAGE_ID: NAPP 9111-145
SOURCE_IMAGE_DATE: 1996 8 11
SOURCE_DEM_DATE: 1994 0 0
AGENCY: WESTERN MAPPING CENTER (WMC)
PRODUCER: WOOLPERT LLP
PRODUCTION_SYSTEM: INTERGRAPH ISPM, ISIR
COMPRESSION: UNDEFINED
STANDARD_VERSION: 1996 12
METADATA_DATE: 2001 8 23
DATA_FILE_SIZE: 41436096
BYTE_COUNT: 5408
