FILENAME: O4810619.SWS.1160109.tif
QUADRANGLE_NAME: KERR COW CAMP
QUADRANT: SW
WEST_LONGITUDE: -106 45 0.00000
EAST_LONGITUDE: -106 41 15.00000
NORTH_LATITUDE: 48 41 15.00000
SOUTH_LATITUDE: 48 37 30.00000
PRODUCTION_DATE: 2001 8 23
RASTER_ORDER: LEFT_RIGHT/TOP_BOTTOM
BAND_ORGANIZATION: SINGLE FILE
BAND_CONTENT: BLACK&WHITE
BAND_CONTENT: UNDEFINED
BAND_CONTENT: UNDEFINED
BITS_PER_PIXEL: 8
SAMPLES_AND_LINES: 5414 7665
HORIZONTAL_DATUM: NAD83
HORIZONTAL_COORDINATE_SYSTEM: UTM
COORDINATE_ZONE: 13
HORIZONTAL_UNITS: meters
HORIZONTAL_RESOLUTION: 1.00000
SECONDARY_HORIZONTAL_DATUM: NAD27
XY_ORIGIN: 370695.00000 5394504.00000
SECONDARY_XY_ORIGIN: 370735.09400 5394281.67400
NATION: US
STATE: MT
NW_QUAD_CORNER_XY: 371204.27200 5394195.19500
NE_QUAD_CORNER_XY: 375803.94700 5394091.52400
SE_QUAD_CORNERY_XY: 375650.29100 5387144.49200
SW_QUAD_CORNER_XY: 371044.92300 5387248.19200
SECONDARY_NW_QUAD_XY: 371200.16100 5393976.24900
SECONDARY_NE_QUAD_XY: 375799.98300 5393872.57500
SECONDARY_SE_QUAD_XY: 375646.32800 5386925.54900
SECONDARY_SW_QUAD_XY: 371040.81200 5387029.25200
RMSE_XY: 3.76000
IMAGE_SOURCE: BLACK AND WHITE FILM
SOURCE_IMAGE_ID: NAPP 9111-170
SOURCE_IMAGE_DATE: 1996 8 11
SOURCE_DEM_DATE: 1994 0 0
AGENCY: WESTERN MAPPING CENTER (WMC)
PRODUCER: WOOLPERT LLP
PRODUCTION_SYSTEM: INTERGRAPH ISPM, ISIR
COMPRESSION: UNDEFINED
STANDARD_VERSION: 1996 12
METADATA_DATE: 2001 8 23
DATA_FILE_SIZE: 41503724
BYTE_COUNT: 5414
