FILENAME: O4810618.NES.1160094.tif
QUADRANGLE_NAME: GAY DAM
QUADRANT: NE
WEST_LONGITUDE: -106 48 45.00000
EAST_LONGITUDE: -106 45 0.00000
NORTH_LATITUDE: 48 45 0.00000
SOUTH_LATITUDE: 48 41 15.00000
PRODUCTION_DATE: 2001 8 23
RASTER_ORDER: LEFT_RIGHT/TOP_BOTTOM
BAND_ORGANIZATION: SINGLE FILE
BAND_CONTENT: BLACK&WHITE
BAND_CONTENT: UNDEFINED
BAND_CONTENT: UNDEFINED
BITS_PER_PIXEL: 8
SAMPLES_AND_LINES: 5414 7669
HORIZONTAL_DATUM: NAD83
HORIZONTAL_COORDINATE_SYSTEM: UTM
COORDINATE_ZONE: 13
HORIZONTAL_UNITS: meters
HORIZONTAL_RESOLUTION: 1.00000
SECONDARY_HORIZONTAL_DATUM: NAD27
XY_ORIGIN: 366255.00000 5401559.00000
SECONDARY_XY_ORIGIN: 366295.07400 5401336.72300
NATION: US
STATE: MT
NW_QUAD_CORNER_XY: 366769.81900 5401249.67900
NE_QUAD_CORNER_XY: 371363.77500 5401142.26700
SE_QUAD_CORNERY_XY: 371204.27200 5394195.19500
SW_QUAD_CORNER_XY: 366604.61600 5394302.63800
SECONDARY_NW_QUAD_XY: 366765.56200 5401030.73200
SECONDARY_NE_QUAD_XY: 371359.66400 5400923.31600
SECONDARY_SE_QUAD_XY: 371200.16100 5393976.24900
SECONDARY_SW_QUAD_XY: 366600.35900 5394083.69600
RMSE_XY: 3.69000
IMAGE_SOURCE: BLACK AND WHITE FILM
SOURCE_IMAGE_ID: NAPP 9109-083
SOURCE_IMAGE_DATE: 1996 8 11
SOURCE_DEM_DATE: 1994 0 0
AGENCY: WESTERN MAPPING CENTER (WMC)
PRODUCER: WOOLPERT LLP
PRODUCTION_SYSTEM: INTERGRAPH ISPM, ISIR
COMPRESSION: UNDEFINED
STANDARD_VERSION: 1996 12
METADATA_DATE: 2001 8 23
DATA_FILE_SIZE: 41525380
BYTE_COUNT: 5414
