FILENAME: O4810617.NES.1160074.tif
QUADRANGLE_NAME: BURNETT CREEK
QUADRANT: NE
WEST_LONGITUDE: -106 56 15.00000
EAST_LONGITUDE: -106 52 30.00000
NORTH_LATITUDE: 48 45 0.00000
SOUTH_LATITUDE: 48 41 15.00000
PRODUCTION_DATE: 2001 8 23
RASTER_ORDER: LEFT_RIGHT/TOP_BOTTOM
BAND_ORGANIZATION: SINGLE FILE
BAND_CONTENT: BLACK&WHITE
BAND_CONTENT: UNDEFINED
BAND_CONTENT: UNDEFINED
BITS_PER_PIXEL: 8
SAMPLES_AND_LINES: 5426 7676
HORIZONTAL_DATUM: NAD83
HORIZONTAL_COORDINATE_SYSTEM: UTM
COORDINATE_ZONE: 13
HORIZONTAL_UNITS: meters
HORIZONTAL_RESOLUTION: 1.00000
SECONDARY_HORIZONTAL_DATUM: NAD27
XY_ORIGIN: 357055.00000 5401784.00000
SECONDARY_XY_ORIGIN: 357095.24800 5401561.92500
NATION: US
STATE: MT
NW_QUAD_CORNER_XY: 357581.97000 5401475.81700
NE_QUAD_CORNER_XY: 362175.88400 5401360.86300
SE_QUAD_CORNERY_XY: 362004.98100 5394413.85300
SW_QUAD_CORNER_XY: 357405.36700 5394528.84000
SECONDARY_NW_QUAD_XY: 357577.41900 5401256.87700
SECONDARY_NE_QUAD_XY: 362171.48000 5401141.91900
SECONDARY_SE_QUAD_XY: 362000.57700 5394194.91400
SECONDARY_SW_QUAD_XY: 357400.81600 5394309.90500
RMSE_XY: 3.12000
IMAGE_SOURCE: BLACK AND WHITE FILM
SOURCE_IMAGE_ID: NAPP 9085-069
SOURCE_IMAGE_DATE: 1996 6 13
SOURCE_DEM_DATE: 1994 0 0
AGENCY: WESTERN MAPPING CENTER (WMC)
PRODUCER: WOOLPERT LLP
PRODUCTION_SYSTEM: INTERGRAPH ISPM, ISIR
COMPRESSION: UNDEFINED
STANDARD_VERSION: 1996 12
METADATA_DATE: 2001 8 23
DATA_FILE_SIZE: 41655402
BYTE_COUNT: 5426
