FILENAME: O4810617.NWS.1160075.tif
QUADRANGLE_NAME: BURNETT CREEK
QUADRANT: NW
WEST_LONGITUDE: -107 0 0.00000
EAST_LONGITUDE: -106 56 15.00000
NORTH_LATITUDE: 48 45 0.00000
SOUTH_LATITUDE: 48 41 15.00000
PRODUCTION_DATE: 2001 8 23
RASTER_ORDER: LEFT_RIGHT/TOP_BOTTOM
BAND_ORGANIZATION: SINGLE FILE
BAND_CONTENT: BLACK&WHITE
BAND_CONTENT: UNDEFINED
BAND_CONTENT: UNDEFINED
BITS_PER_PIXEL: 8
SAMPLES_AND_LINES: 5432 7680
HORIZONTAL_DATUM: NAD83
HORIZONTAL_COORDINATE_SYSTEM: UTM
COORDINATE_ZONE: 13
HORIZONTAL_UNITS: meters
HORIZONTAL_RESOLUTION: 1.00000
SECONDARY_HORIZONTAL_DATUM: NAD27
XY_ORIGIN: 352455.00000 5401903.00000
SECONDARY_XY_ORIGIN: 352495.33500 5401681.02800
NATION: US
STATE: MT
NW_QUAD_CORNER_XY: 352988.07900 5401594.54300
NE_QUAD_CORNER_XY: 357581.97000 5401475.81700
SE_QUAD_CORNERY_XY: 357405.36700 5394528.84000
SW_QUAD_CORNER_XY: 352805.77500 5394647.59900
SECONDARY_NW_QUAD_XY: 352983.38000 5401375.60700
SECONDARY_NE_QUAD_XY: 357577.41900 5401256.87700
SECONDARY_SE_QUAD_XY: 357400.81600 5394309.90500
SECONDARY_SW_QUAD_XY: 352801.07700 5394428.66800
RMSE_XY: 2.76000
IMAGE_SOURCE: BLACK AND WHITE FILM
SOURCE_IMAGE_ID: NAPP 9101-053
SOURCE_IMAGE_DATE: 1996 7 15
SOURCE_DEM_DATE: 1994 0 0
AGENCY: WESTERN MAPPING CENTER (WMC)
PRODUCER: WOOLPERT LLP
PRODUCTION_SYSTEM: INTERGRAPH ISPM, ISIR
COMPRESSION: UNDEFINED
STANDARD_VERSION: 1996 12
METADATA_DATE: 2001 8 23
DATA_FILE_SIZE: 41723192
BYTE_COUNT: 5432
