FILENAME: O4810617.SES.1160076.tif
QUADRANGLE_NAME: BURNETT CREEK
QUADRANT: SE
WEST_LONGITUDE: -106 56 15.00000
EAST_LONGITUDE: -106 52 30.00000
NORTH_LATITUDE: 48 41 15.00000
SOUTH_LATITUDE: 48 37 30.00000
PRODUCTION_DATE: 2001 8 23
RASTER_ORDER: LEFT_RIGHT/TOP_BOTTOM
BAND_ORGANIZATION: SINGLE FILE
BAND_CONTENT: BLACK&WHITE
BAND_CONTENT: UNDEFINED
BAND_CONTENT: UNDEFINED
BITS_PER_PIXEL: 8
SAMPLES_AND_LINES: 5432 7676
HORIZONTAL_DATUM: NAD83
HORIZONTAL_COORDINATE_SYSTEM: UTM
COORDINATE_ZONE: 13
HORIZONTAL_UNITS: meters
HORIZONTAL_RESOLUTION: 1.00000
SECONDARY_HORIZONTAL_DATUM: NAD27
XY_ORIGIN: 356878.00000 5394837.00000
SECONDARY_XY_ORIGIN: 356918.38400 5394615.03000
NATION: US
STATE: MT
NW_QUAD_CORNER_XY: 357405.36700 5394528.84000
NE_QUAD_CORNER_XY: 362004.98100 5394413.85300
SE_QUAD_CORNERY_XY: 361834.24400 5387466.91100
SW_QUAD_CORNER_XY: 357228.93500 5387581.93000
SECONDARY_NW_QUAD_XY: 357400.81600 5394309.90500
SECONDARY_NE_QUAD_XY: 362000.57700 5394194.91400
SECONDARY_SE_QUAD_XY: 361829.84000 5387247.97800
SECONDARY_SW_QUAD_XY: 357224.38400 5387363.00000
RMSE_XY: 3.52000
IMAGE_SOURCE: BLACK AND WHITE FILM
SOURCE_IMAGE_ID: NAPP 9085-071
SOURCE_IMAGE_DATE: 1996 6 13
SOURCE_DEM_DATE: 1994 0 0
AGENCY: WESTERN MAPPING CENTER (WMC)
PRODUCER: WOOLPERT LLP
PRODUCTION_SYSTEM: INTERGRAPH ISPM, ISIR
COMPRESSION: UNDEFINED
STANDARD_VERSION: 1996 12
METADATA_DATE: 2001 8 23
DATA_FILE_SIZE: 41701464
BYTE_COUNT: 5432
