FILENAME: O4810616.NWS.1164442.tif
QUADRANGLE_NAME: RICHLAND
QUADRANT: NW
WEST_LONGITUDE: -106 7 30.00000
EAST_LONGITUDE: -106 3 45.00000
NORTH_LATITUDE: 48 52 30.00000
SOUTH_LATITUDE: 48 48 45.00000
PRODUCTION_DATE: 2001 9 15
RASTER_ORDER: LEFT_RIGHT/TOP_BOTTOM
BAND_ORGANIZATION: SINGLE FILE
BAND_CONTENT: BLACK&WHITE
BAND_CONTENT: UNDEFINED
BAND_CONTENT: UNDEFINED
BITS_PER_PIXEL: 8
SAMPLES_AND_LINES: 5339 7628
HORIZONTAL_DATUM: NAD83
HORIZONTAL_COORDINATE_SYSTEM: UTM
COORDINATE_ZONE: 13
HORIZONTAL_UNITS: meters
HORIZONTAL_RESOLUTION: 1.00000
SECONDARY_HORIZONTAL_DATUM: NAD27
XY_ORIGIN: 417059.00000 5414479.00000
SECONDARY_XY_ORIGIN: 417098.65200 5414256.54400
NATION: US
STATE: MT
NW_QUAD_CORNER_XY: 417509.65000 5414170.35100
NE_QUAD_CORNER_XY: 422092.37500 5414104.44500
SE_QUAD_CORNERY_XY: 421995.36200 5407156.96400
SW_QUAD_CORNER_XY: 417406.92900 5407222.89000
SECONDARY_NW_QUAD_XY: 417507.00800 5413951.36500
SECONDARY_NE_QUAD_XY: 422089.87900 5413885.45600
SECONDARY_SE_QUAD_XY: 421992.86600 5406937.97900
SECONDARY_SW_QUAD_XY: 417404.28700 5407003.90700
RMSE_XY: 3.22000
IMAGE_SOURCE: BLACK AND WHITE FILM
SOURCE_IMAGE_ID: NAPP 9095-159
SOURCE_IMAGE_DATE: 1996 7 9
SOURCE_DEM_DATE: 1998 0 0
AGENCY: WESTERN MAPPING CENTER (WMC)
PRODUCER: WOOLPERT LLP
PRODUCTION_SYSTEM: INTERGRAPH ISPM, ISIR
COMPRESSION: UNDEFINED
STANDARD_VERSION: 1996 12
METADATA_DATE: 2001 9 15
DATA_FILE_SIZE: 40731231
BYTE_COUNT: 5339
