FILENAME: O4810616.SWS.1164444.tif
QUADRANGLE_NAME: RICHLAND
QUADRANT: SW
WEST_LONGITUDE: -106 7 30.00000
EAST_LONGITUDE: -106 3 45.00000
NORTH_LATITUDE: 48 48 45.00000
SOUTH_LATITUDE: 48 45 0.00000
PRODUCTION_DATE: 2001 11 12
RASTER_ORDER: LEFT_RIGHT/TOP_BOTTOM
BAND_ORGANIZATION: SINGLE FILE
BAND_CONTENT: BLACK&WHITE
BAND_CONTENT: UNDEFINED
BAND_CONTENT: UNDEFINED
BITS_PER_PIXEL: 8
SAMPLES_AND_LINES: 5344 7628
HORIZONTAL_DATUM: NAD83
HORIZONTAL_COORDINATE_SYSTEM: UTM
COORDINATE_ZONE: 13
HORIZONTAL_UNITS: METERS
HORIZONTAL_RESOLUTION: 1.00000
SECONDARY_HORIZONTAL_DATUM: NAD27
XY_ORIGIN: 416957.00000 5407532.00000
SECONDARY_XY_ORIGIN: 416996.62000 5407309.51600
NATION: US
STATE: MT
NW_QUAD_CORNER_XY: 417406.92900 5407222.89000
NE_QUAD_CORNER_XY: 421995.36200 5407156.96400
SE_QUAD_CORNERY_XY: 421898.44200 5400209.55600
SW_QUAD_CORNER_XY: 417304.30700 5400275.50100
SECONDARY_NW_QUAD_XY: 417404.28700 5407003.90700
SECONDARY_NE_QUAD_XY: 421992.86600 5406937.97900
SECONDARY_SE_QUAD_XY: 421895.94700 5399990.57600
SECONDARY_SW_QUAD_XY: 417301.66500 5400056.52200
RMSE_XY: 3.96000
IMAGE_SOURCE: BLACK AND WHITE FILM
SOURCE_IMAGE_ID: NAPP 9095-161
SOURCE_IMAGE_DATE: 1996 7 9
SOURCE_DEM_DATE: 1998 0 0
AGENCY: WESTERN MAPPING CENTER (WMC)
PRODUCER: WOOLPERT LLP
PRODUCTION_SYSTEM: INTERGRAPH ISPM, ISIR
COMPRESSION: UNDEFINED
STANDARD_VERSION: 1996 12
METADATA_DATE: 2001 11 12
DATA_FILE_SIZE: 40769376
BYTE_COUNT: 5344
