FILENAME: O4810615.NES.1164429.tif
QUADRANGLE_NAME: GLENTANA EAST
QUADRANT: NE
WEST_LONGITUDE: -106 11 15.00000
EAST_LONGITUDE: -106 7 30.00000
NORTH_LATITUDE: 48 52 30.00000
SOUTH_LATITUDE: 48 48 45.00000
PRODUCTION_DATE: 2001 9 15
RASTER_ORDER: LEFT_RIGHT/TOP_BOTTOM
BAND_ORGANIZATION: SINGLE FILE
BAND_CONTENT: BLACK&WHITE
BAND_CONTENT: UNDEFINED
BAND_CONTENT: UNDEFINED
BITS_PER_PIXEL: 8
SAMPLES_AND_LINES: 5344 7632
HORIZONTAL_DATUM: NAD83
HORIZONTAL_COORDINATE_SYSTEM: UTM
COORDINATE_ZONE: 13
HORIZONTAL_UNITS: meters
HORIZONTAL_RESOLUTION: 1.00000
SECONDARY_HORIZONTAL_DATUM: NAD27
XY_ORIGIN: 412471.00000 5414549.00000
SECONDARY_XY_ORIGIN: 412510.65800 5414326.52600
NATION: US
STATE: MT
NW_QUAD_CORNER_XY: 412926.93900 5414240.02400
NE_QUAD_CORNER_XY: 417509.65000 5414170.35100
SE_QUAD_CORNERY_XY: 417406.92900 5407222.89000
SW_QUAD_CORNER_XY: 412818.51000 5407292.58300
SECONDARY_NW_QUAD_XY: 412924.14900 5414021.04000
SECONDARY_NE_QUAD_XY: 417507.00800 5413951.36500
SECONDARY_SE_QUAD_XY: 417404.28700 5407003.90700
SECONDARY_SW_QUAD_XY: 412815.72000 5407073.60200
RMSE_XY: 3.15000
IMAGE_SOURCE: BLACK AND WHITE FILM
SOURCE_IMAGE_ID: NAPP 9095-206
SOURCE_IMAGE_DATE: 1996 7 9
SOURCE_DEM_DATE: 1998 0 0
AGENCY: WESTERN MAPPING CENTER (WMC)
PRODUCER: WOOLPERT LLP
PRODUCTION_SYSTEM: INTERGRAPH ISPM, ISIR
COMPRESSION: UNDEFINED
STANDARD_VERSION: 1996 12
METADATA_DATE: 2001 9 15
DATA_FILE_SIZE: 40790752
BYTE_COUNT: 5344
