FILENAME: O4810615.SES.1164431.tif
QUADRANGLE_NAME: GLENTANA EAST
QUADRANT: SE
WEST_LONGITUDE: -106 11 15.00000
EAST_LONGITUDE: -106 7 30.00000
NORTH_LATITUDE: 48 48 45.00000
SOUTH_LATITUDE: 48 45 0.00000
PRODUCTION_DATE: 2001 9 15
RASTER_ORDER: LEFT_RIGHT/TOP_BOTTOM
BAND_ORGANIZATION: SINGLE FILE
BAND_CONTENT: BLACK&WHITE
BAND_CONTENT: UNDEFINED
BAND_CONTENT: UNDEFINED
BITS_PER_PIXEL: 8
SAMPLES_AND_LINES: 5350 7632
HORIZONTAL_DATUM: NAD83
HORIZONTAL_COORDINATE_SYSTEM: UTM
COORDINATE_ZONE: 13
HORIZONTAL_UNITS: meters
HORIZONTAL_RESOLUTION: 1.00000
SECONDARY_HORIZONTAL_DATUM: NAD27
XY_ORIGIN: 412362.00000 5407602.00000
SECONDARY_XY_ORIGIN: 412401.61900 5407379.49300
NATION: US
STATE: MT
NW_QUAD_CORNER_XY: 412818.51000 5407292.58300
NE_QUAD_CORNER_XY: 417406.92900 5407222.89000
SE_QUAD_CORNERY_XY: 417304.30700 5400275.50100
SW_QUAD_CORNER_XY: 412710.18500 5400345.21400
SECONDARY_NW_QUAD_XY: 412815.72000 5407073.60200
SECONDARY_NE_QUAD_XY: 417404.28700 5407003.90700
SECONDARY_SE_QUAD_XY: 417301.66500 5400056.52200
SECONDARY_SW_QUAD_XY: 412707.39600 5400126.23800
RMSE_XY: 4.55000
IMAGE_SOURCE: BLACK AND WHITE FILM
SOURCE_IMAGE_ID: NAPP 9095-204
SOURCE_IMAGE_DATE: 1996 7 9
SOURCE_DEM_DATE: 1998 0 0
AGENCY: WESTERN MAPPING CENTER (WMC)
PRODUCER: WOOLPERT LLP
PRODUCTION_SYSTEM: INTERGRAPH ISPM, ISIR
COMPRESSION: UNDEFINED
STANDARD_VERSION: 1996 12
METADATA_DATE: 2001 9 15
DATA_FILE_SIZE: 40836550
BYTE_COUNT: 5350
