FILENAME: O4810614.NES.1164417.tif
QUADRANGLE_NAME: GLENTANA WEST
QUADRANT: NE
WEST_LONGITUDE: -106 18 45.00000
EAST_LONGITUDE: -106 15 0.00000
NORTH_LATITUDE: 48 52 30.00000
SOUTH_LATITUDE: 48 48 45.00000
PRODUCTION_DATE: 2001 9 15
RASTER_ORDER: LEFT_RIGHT/TOP_BOTTOM
BAND_ORGANIZATION: SINGLE FILE
BAND_CONTENT: BLACK&WHITE
BAND_CONTENT: UNDEFINED
BAND_CONTENT: UNDEFINED
BITS_PER_PIXEL: 8
SAMPLES_AND_LINES: 5357 7639
HORIZONTAL_DATUM: NAD83
HORIZONTAL_COORDINATE_SYSTEM: UTM
COORDINATE_ZONE: 13
HORIZONTAL_UNITS: meters
HORIZONTAL_RESOLUTION: 1.00000
SECONDARY_HORIZONTAL_DATUM: NAD27
XY_ORIGIN: 403293.00000 5414700.00000
SECONDARY_XY_ORIGIN: 403332.67700 5414477.48400
NATION: US
STATE: MT
NW_QUAD_CORNER_XY: 403761.55800 5414390.67200
NE_QUAD_CORNER_XY: 408344.24100 5414313.46400
SE_QUAD_CORNERY_XY: 408230.10400 5407366.04500
SW_QUAD_CORNER_XY: 403641.71200 5407443.27400
SECONDARY_NW_QUAD_XY: 403758.47400 5414171.69200
SECONDARY_NE_QUAD_XY: 408341.30400 5414094.48300
SECONDARY_SE_QUAD_XY: 408227.16700 5407147.06600
SECONDARY_SW_QUAD_XY: 403638.62900 5407224.29800
RMSE_XY: 2.87000
IMAGE_SOURCE: BLACK AND WHITE FILM
SOURCE_IMAGE_ID: NAPP 9122-081
SOURCE_IMAGE_DATE: 1996 9 11
SOURCE_DEM_DATE: 1998 0 0
AGENCY: WESTERN MAPPING CENTER (WMC)
PRODUCER: WOOLPERT LLP
PRODUCTION_SYSTEM: INTERGRAPH ISPM, ISIR
COMPRESSION: UNDEFINED
STANDARD_VERSION: 1996 12
METADATA_DATE: 2001 9 15
DATA_FILE_SIZE: 40927480
BYTE_COUNT: 5357
