FILENAME: O4810614.NWS.1164418.tif
QUADRANGLE_NAME: GLENTANA WEST
QUADRANT: NW
WEST_LONGITUDE: -106 22 30.00000
EAST_LONGITUDE: -106 18 45.00000
NORTH_LATITUDE: 48 52 30.00000
SOUTH_LATITUDE: 48 48 45.00000
PRODUCTION_DATE: 2001 9 15
RASTER_ORDER: LEFT_RIGHT/TOP_BOTTOM
BAND_ORGANIZATION: SINGLE FILE
BAND_CONTENT: BLACK&WHITE
BAND_CONTENT: UNDEFINED
BAND_CONTENT: UNDEFINED
BITS_PER_PIXEL: 8
SAMPLES_AND_LINES: 5362 7643
HORIZONTAL_DATUM: NAD83
HORIZONTAL_COORDINATE_SYSTEM: UTM
COORDINATE_ZONE: 13
HORIZONTAL_UNITS: meters
HORIZONTAL_RESOLUTION: 1.00000
SECONDARY_HORIZONTAL_DATUM: NAD27
XY_ORIGIN: 398705.00000 5414781.00000
SECONDARY_XY_ORIGIN: 398744.68900 5414558.46000
NATION: US
STATE: MT
NW_QUAD_CORNER_XY: 399178.89000 5414471.64600
NE_QUAD_CORNER_XY: 403761.55800 5414390.67200
SE_QUAD_CORNERY_XY: 403641.71200 5407443.27400
SW_QUAD_CORNER_XY: 399053.33500 5407524.27200
SECONDARY_NW_QUAD_XY: 399175.66000 5414252.67000
SECONDARY_NE_QUAD_XY: 403758.47400 5414171.69200
SECONDARY_SE_QUAD_XY: 403638.62900 5407224.29800
SECONDARY_SW_QUAD_XY: 399050.10500 5407305.29900
RMSE_XY: 3.24000
IMAGE_SOURCE: BLACK AND WHITE FILM
SOURCE_IMAGE_ID: NAPP 9109-224
SOURCE_IMAGE_DATE: 1996 8 11
SOURCE_DEM_DATE: 1998 0 0
AGENCY: WESTERN MAPPING CENTER (WMC)
PRODUCER: WOOLPERT LLP
PRODUCTION_SYSTEM: INTERGRAPH ISPM, ISIR
COMPRESSION: UNDEFINED
STANDARD_VERSION: 1996 12
METADATA_DATE: 2001 9 15
DATA_FILE_SIZE: 40987128
BYTE_COUNT: 5362
