FILENAME: O4810614.SWS.1164420.tif
QUADRANGLE_NAME: GLENTANA WEST
QUADRANT: SW
WEST_LONGITUDE: -106 22 30.00000
EAST_LONGITUDE: -106 18 45.00000
NORTH_LATITUDE: 48 48 45.00000
SOUTH_LATITUDE: 48 45 0.00000
PRODUCTION_DATE: 2001 9 15
RASTER_ORDER: LEFT_RIGHT/TOP_BOTTOM
BAND_ORGANIZATION: SINGLE FILE
BAND_CONTENT: BLACK&WHITE
BAND_CONTENT: UNDEFINED
BAND_CONTENT: UNDEFINED
BITS_PER_PIXEL: 8
SAMPLES_AND_LINES: 5367 7643
HORIZONTAL_DATUM: NAD83
HORIZONTAL_COORDINATE_SYSTEM: UTM
COORDINATE_ZONE: 13
HORIZONTAL_UNITS: meters
HORIZONTAL_RESOLUTION: 1.00000
SECONDARY_HORIZONTAL_DATUM: NAD27
XY_ORIGIN: 398580.00000 5407833.00000
SECONDARY_XY_ORIGIN: 398619.66400 5407610.43500
NATION: US
STATE: MT
NW_QUAD_CORNER_XY: 399053.33500 5407524.27200
NE_QUAD_CORNER_XY: 403641.71200 5407443.27400
SE_QUAD_CORNERY_XY: 403521.98200 5400495.94900
SW_QUAD_CORNER_XY: 398927.90200 5400576.97000
SECONDARY_NW_QUAD_XY: 399050.10500 5407305.29900
SECONDARY_NE_QUAD_XY: 403638.62900 5407224.29800
SECONDARY_SE_QUAD_XY: 403518.89900 5400276.97700
SECONDARY_SW_QUAD_XY: 398924.67200 5400358.00100
RMSE_XY: 5.10000
IMAGE_SOURCE: BLACK AND WHITE FILM
SOURCE_IMAGE_ID: NAPP 9109-226
SOURCE_IMAGE_DATE: 1996 8 11
SOURCE_DEM_DATE: 1998 0 0
AGENCY: WESTERN MAPPING CENTER (WMC)
PRODUCER: WOOLPERT LLP
PRODUCTION_SYSTEM: INTERGRAPH ISPM, ISIR
COMPRESSION: UNDEFINED
STANDARD_VERSION: 1996 12
METADATA_DATE: 2001 9 15
DATA_FILE_SIZE: 41025348
BYTE_COUNT: 5367
