FILENAME: O4810613.NWS.1164370.tif
QUADRANGLE_NAME: OPHEIM
QUADRANT: NW
WEST_LONGITUDE: -106 30 0.00000
EAST_LONGITUDE: -106 26 15.00000
NORTH_LATITUDE: 48 52 30.00000
SOUTH_LATITUDE: 48 48 45.00000
PRODUCTION_DATE: 2001 9 15
RASTER_ORDER: LEFT_RIGHT/TOP_BOTTOM
BAND_ORGANIZATION: SINGLE FILE
BAND_CONTENT: BLACK&WHITE
BAND_CONTENT: UNDEFINED
BAND_CONTENT: UNDEFINED
BITS_PER_PIXEL: 8
SAMPLES_AND_LINES: 5374 7650
HORIZONTAL_DATUM: NAD83
HORIZONTAL_COORDINATE_SYSTEM: UTM
COORDINATE_ZONE: 13
HORIZONTAL_UNITS: METERS
HORIZONTAL_RESOLUTION: 1.00000
SECONDARY_HORIZONTAL_DATUM: NAD27
XY_ORIGIN: 389528.00000 5414954.00000
SECONDARY_XY_ORIGIN: 389567.71700 5414731.41500
NATION: US
STATE: MT
NW_QUAD_CORNER_XY: 390013.60300 5414644.89800
NE_QUAD_CORNER_XY: 394596.23800 5414556.38800
SE_QUAD_CORNERY_XY: 394464.97400 5407609.03900
SW_QUAD_CORNER_XY: 389876.63000 5407697.57500
SECONDARY_NW_QUAD_XY: 390010.07900 5414425.92700
SECONDARY_NE_QUAD_XY: 394592.86100 5414337.41400
SECONDARY_SE_QUAD_XY: 394461.59800 5407390.06900
SECONDARY_SW_QUAD_XY: 389873.10600 5407478.60700
RMSE_XY: 3.58000
IMAGE_SOURCE: BLACK AND WHITE FILM
SOURCE_IMAGE_ID: NAPP 9109-100
SOURCE_IMAGE_DATE: 1996 8 11
SOURCE_DEM_DATE: 1998 0 0
AGENCY: WESTERN MAPPING CENTER (WMC)
PRODUCER: WOOLPERT LLP
PRODUCTION_SYSTEM: INTERGRAPH ISPM, ISIR
COMPRESSION: UNDEFINED
STANDARD_VERSION: 1996 12
METADATA_DATE: 2001 9 18
DATA_FILE_SIZE: 41116474
BYTE_COUNT: 5374
