FILENAME: O4810613.SWS.1164372.tif
QUADRANGLE_NAME: OPHEIM
QUADRANT: SW
WEST_LONGITUDE: -106 30 0.00000
EAST_LONGITUDE: -106 26 15.00000
NORTH_LATITUDE: 48 48 45.00000
SOUTH_LATITUDE: 48 45 0.00000
PRODUCTION_DATE: 2001 9 15
RASTER_ORDER: LEFT_RIGHT/TOP_BOTTOM
BAND_ORGANIZATION: SINGLE FILE
BAND_CONTENT: BLACK&WHITE
BAND_CONTENT: UNDEFINED
BAND_CONTENT: UNDEFINED
BITS_PER_PIXEL: 8
SAMPLES_AND_LINES: 5379 7651
HORIZONTAL_DATUM: NAD83
HORIZONTAL_COORDINATE_SYSTEM: UTM
COORDINATE_ZONE: 13
HORIZONTAL_UNITS: METERS
HORIZONTAL_RESOLUTION: 1.00000
SECONDARY_HORIZONTAL_DATUM: NAD27
XY_ORIGIN: 389391.00000 5408007.00000
SECONDARY_XY_ORIGIN: 389430.71100 5407784.40400
NATION: US
STATE: MT
NW_QUAD_CORNER_XY: 389876.63000 5407697.57500
NE_QUAD_CORNER_XY: 394464.97400 5407609.03900
SE_QUAD_CORNERY_XY: 394333.83800 5400661.76100
SW_QUAD_CORNER_XY: 389739.79000 5400750.32200
SECONDARY_NW_QUAD_XY: 389873.10600 5407478.60700
SECONDARY_NE_QUAD_XY: 394461.59800 5407390.06900
SECONDARY_SE_QUAD_XY: 394330.46100 5400442.79500
SECONDARY_SW_QUAD_XY: 389736.26600 5400531.35800
RMSE_XY: 2.89000
IMAGE_SOURCE: BLACK AND WHITE FILM
SOURCE_IMAGE_ID: NAPP 9109-102
SOURCE_IMAGE_DATE: 1996 8 11
SOURCE_DEM_DATE: 1998 0 0
AGENCY: WESTERN MAPPING CENTER (WMC)
PRODUCER: WOOLPERT LLP
PRODUCTION_SYSTEM: INTERGRAPH ISPM, ISIR
COMPRESSION: UNDEFINED
STANDARD_VERSION: 1996 12
METADATA_DATE: 2001 9 18
DATA_FILE_SIZE: 41160108
BYTE_COUNT: 5379
