FILENAME: O4810612.SES.1160116.tif
QUADRANGLE_NAME: O'JUEL LAKE
QUADRANT: SE
WEST_LONGITUDE: -106 33 45.00000
EAST_LONGITUDE: -106 30 0.00000
NORTH_LATITUDE: 48 48 45.00000
SOUTH_LATITUDE: 48 45 0.00000
PRODUCTION_DATE: 2001 8 23
RASTER_ORDER: LEFT_RIGHT/TOP_BOTTOM
BAND_ORGANIZATION: SINGLE FILE
BAND_CONTENT: BLACK&WHITE
BAND_CONTENT: UNDEFINED
BAND_CONTENT: UNDEFINED
BITS_PER_PIXEL: 8
SAMPLES_AND_LINES: 5385 7654
HORIZONTAL_DATUM: NAD83
HORIZONTAL_COORDINATE_SYSTEM: UTM
COORDINATE_ZONE: 13
HORIZONTAL_UNITS: meters
HORIZONTAL_RESOLUTION: 1.00000
SECONDARY_HORIZONTAL_DATUM: NAD27
XY_ORIGIN: 384797.00000 5408099.00000
SECONDARY_XY_ORIGIN: 384836.77200 5407876.44300
NATION: US
STATE: MT
NW_QUAD_CORNER_XY: 385288.30300 5407789.87900
NE_QUAD_CORNER_XY: 389876.63000 5407697.57500
SE_QUAD_CORNERY_XY: 389739.79000 5400750.32200
SW_QUAD_CORNER_XY: 385145.75900 5400842.65300
SECONDARY_NW_QUAD_XY: 385284.63300 5407570.91400
SECONDARY_NE_QUAD_XY: 389873.10600 5407478.60700
SECONDARY_SE_QUAD_XY: 389736.26600 5400531.35800
SECONDARY_SW_QUAD_XY: 385142.08800 5400623.69200
RMSE_XY: 3.07000
IMAGE_SOURCE: BLACK AND WHITE FILM
SOURCE_IMAGE_ID: NAPP 9110-131
SOURCE_IMAGE_DATE: 1996 8 11
SOURCE_DEM_DATE: 1998 0 0
AGENCY: WESTERN MAPPING CENTER (WMC)
PRODUCER: WOOLPERT LLP
PRODUCTION_SYSTEM: INTERGRAPH ISPM, ISIR
COMPRESSION: UNDEFINED
STANDARD_VERSION: 1996 12
METADATA_DATE: 2001 8 23
DATA_FILE_SIZE: 41222175
BYTE_COUNT: 5385
