FILENAME: O4810611.NWS.1160103.tif
QUADRANGLE_NAME: DODGE RESERVOIR
QUADRANT: NW
WEST_LONGITUDE: -106 45 0.00000
EAST_LONGITUDE: -106 41 15.00000
NORTH_LATITUDE: 48 52 30.00000
SOUTH_LATITUDE: 48 48 45.00000
PRODUCTION_DATE: 2001 8 23
RASTER_ORDER: LEFT_RIGHT/TOP_BOTTOM
BAND_ORGANIZATION: SINGLE FILE
BAND_CONTENT: BLACK&WHITE
BAND_CONTENT: UNDEFINED
BAND_CONTENT: UNDEFINED
BITS_PER_PIXEL: 8
SAMPLES_AND_LINES: 5397 7666
HORIZONTAL_DATUM: NAD83
HORIZONTAL_COORDINATE_SYSTEM: UTM
COORDINATE_ZONE: 13
HORIZONTAL_UNITS: meters
HORIZONTAL_RESOLUTION: 1.00000
SECONDARY_HORIZONTAL_DATUM: NAD27
XY_ORIGIN: 371174.00000 5415346.00000
SECONDARY_XY_ORIGIN: 371213.92600 5415123.50200
NATION: US
STATE: MT
NW_QUAD_CORNER_XY: 371683.24500 5415036.61600
NE_QUAD_CORNER_XY: 376265.80500 5414933.03400
SE_QUAD_CORNERY_XY: 376111.70400 5407985.79500
SW_QUAD_CORNER_XY: 371523.43300 5408089.40700
SECONDARY_NW_QUAD_XY: 371679.13400 5414817.65700
SECONDARY_NE_QUAD_XY: 376261.84100 5414714.07200
SECONDARY_SE_QUAD_XY: 376107.74000 5407766.83600
SECONDARY_SW_QUAD_XY: 371519.32200 5407870.45200
RMSE_XY: 4.26000
IMAGE_SOURCE: BLACK AND WHITE FILM
SOURCE_IMAGE_ID: NAPP 9111-164
SOURCE_IMAGE_DATE: 1996 8 11
SOURCE_DEM_DATE: 1998 0 0
AGENCY: WESTERN MAPPING CENTER (WMC)
PRODUCER: WOOLPERT LLP
PRODUCTION_SYSTEM: INTERGRAPH ISPM, ISIR
COMPRESSION: UNDEFINED
STANDARD_VERSION: 1996 12
METADATA_DATE: 2001 8 23
DATA_FILE_SIZE: 41378799
BYTE_COUNT: 5397
