FILENAME: O4810611.SES.1160104.tif
QUADRANGLE_NAME: DODGE RESERVOIR
QUADRANT: SE
WEST_LONGITUDE: -106 41 15.00000
EAST_LONGITUDE: -106 37 30.00000
NORTH_LATITUDE: 48 48 45.00000
SOUTH_LATITUDE: 48 45 0.00000
PRODUCTION_DATE: 2001 8 23
RASTER_ORDER: LEFT_RIGHT/TOP_BOTTOM
BAND_ORGANIZATION: SINGLE FILE
BAND_CONTENT: BLACK&WHITE
BAND_CONTENT: UNDEFINED
BAND_CONTENT: UNDEFINED
BITS_PER_PIXEL: 8
SAMPLES_AND_LINES: 5397 7662
HORIZONTAL_DATUM: NAD83
HORIZONTAL_COORDINATE_SYSTEM: UTM
COORDINATE_ZONE: 13
HORIZONTAL_UNITS: meters
HORIZONTAL_RESOLUTION: 1.00000
SECONDARY_HORIZONTAL_DATUM: NAD27
XY_ORIGIN: 375608.00000 5408295.00000
SECONDARY_XY_ORIGIN: 375647.89400 5408072.51900
NATION: US
STATE: MT
NW_QUAD_CORNER_XY: 376111.70400 5407985.79500
NE_QUAD_CORNER_XY: 380699.99400 5407885.95200
SE_QUAD_CORNERY_XY: 380551.74600 5400938.75400
SW_QUAD_CORNER_XY: 375957.75100 5401038.62500
SECONDARY_NW_QUAD_XY: 376107.74000 5407766.83600
SECONDARY_NE_QUAD_XY: 380696.17700 5407666.99100
SECONDARY_SE_QUAD_XY: 380547.92800 5400719.79600
SECONDARY_SW_QUAD_XY: 375953.78700 5400819.67100
RMSE_XY: 3.58000
IMAGE_SOURCE: BLACK AND WHITE FILM
SOURCE_IMAGE_ID: NAPP 9111-149
SOURCE_IMAGE_DATE: 1996 8 11
SOURCE_DEM_DATE: 1998 0 0
AGENCY: WESTERN MAPPING CENTER (WMC)
PRODUCER: WOOLPERT LLP
PRODUCTION_SYSTEM: INTERGRAPH ISPM, ISIR
COMPRESSION: UNDEFINED
STANDARD_VERSION: 1996 12
METADATA_DATE: 2001 8 23
DATA_FILE_SIZE: 41357211
BYTE_COUNT: 5397
