FILENAME: O4810610.NES.1160090.tif
QUADRANGLE_NAME: LAST CHANCE RESERVOIR
QUADRANT: NE
WEST_LONGITUDE: -106 48 45.00000
EAST_LONGITUDE: -106 45 0.00000
NORTH_LATITUDE: 48 52 30.00000
SOUTH_LATITUDE: 48 48 45.00000
PRODUCTION_DATE: 2001 8 23
RASTER_ORDER: LEFT_RIGHT/TOP_BOTTOM
BAND_ORGANIZATION: SINGLE FILE
BAND_CONTENT: BLACK&WHITE
BAND_CONTENT: UNDEFINED
BAND_CONTENT: UNDEFINED
BITS_PER_PIXEL: 8
SAMPLES_AND_LINES: 5404 7669
HORIZONTAL_DATUM: NAD83
HORIZONTAL_COORDINATE_SYSTEM: UTM
COORDINATE_ZONE: 13
HORIZONTAL_UNITS: meters
HORIZONTAL_RESOLUTION: 1.00000
SECONDARY_HORIZONTAL_DATUM: NAD27
XY_ORIGIN: 366585.00000 5415453.00000
SECONDARY_XY_ORIGIN: 366624.99500 5415230.55400
NATION: US
STATE: MT
NW_QUAD_CORNER_XY: 367100.70500 5415143.96600
NE_QUAD_CORNER_XY: 371683.24500 5415036.61600
SE_QUAD_CORNERY_XY: 371523.43300 5408089.40700
SW_QUAD_CORNER_XY: 366935.18200 5408196.78900
SECONDARY_NW_QUAD_XY: 367096.44700 5414925.01100
SECONDARY_NE_QUAD_XY: 371679.13400 5414817.65700
SECONDARY_SE_QUAD_XY: 371519.32200 5407870.45200
SECONDARY_SW_QUAD_XY: 366930.92500 5407977.83700
RMSE_XY: 3.71000
IMAGE_SOURCE: BLACK AND WHITE FILM
SOURCE_IMAGE_ID: NAPP 11000-071
SOURCE_IMAGE_DATE: 1998 7 13
SOURCE_DEM_DATE: 1998 0 0
AGENCY: WESTERN MAPPING CENTER (WMC)
PRODUCER: WOOLPERT LLP
PRODUCTION_SYSTEM: INTERGRAPH ISPM, ISIR
COMPRESSION: UNDEFINED
STANDARD_VERSION: 1996 12
METADATA_DATE: 2001 8 23
DATA_FILE_SIZE: 41448680
BYTE_COUNT: 5404
