FILENAME: O4810610.SWS.1160093.tif
QUADRANGLE_NAME: LAST CHANCE RESERVOIR
QUADRANT: SW
WEST_LONGITUDE: -106 52 30.00000
EAST_LONGITUDE: -106 48 45.00000
NORTH_LATITUDE: 48 48 45.00000
SOUTH_LATITUDE: 48 45 0.00000
PRODUCTION_DATE: 2001 8 23
RASTER_ORDER: LEFT_RIGHT/TOP_BOTTOM
BAND_ORGANIZATION: SINGLE FILE
BAND_CONTENT: BLACK&WHITE
BAND_CONTENT: UNDEFINED
BAND_CONTENT: UNDEFINED
BITS_PER_PIXEL: 8
SAMPLES_AND_LINES: 5415 7673
HORIZONTAL_DATUM: NAD83
HORIZONTAL_COORDINATE_SYSTEM: UTM
COORDINATE_ZONE: 13
HORIZONTAL_UNITS: meters
HORIZONTAL_RESOLUTION: 1.00000
SECONDARY_HORIZONTAL_DATUM: NAD27
XY_ORIGIN: 361826.00000 5408617.00000
SECONDARY_XY_ORIGIN: 361866.11200 5408394.71400
NATION: US
STATE: MT
NW_QUAD_CORNER_XY: 362346.95300 5408307.94000
NE_QUAD_CORNER_XY: 366935.18200 5408196.78900
SE_QUAD_CORNERY_XY: 366769.81900 5401249.67900
SW_QUAD_CORNER_XY: 362175.88400 5401360.86300
SECONDARY_NW_QUAD_XY: 362342.54800 5408088.99200
SECONDARY_NE_QUAD_XY: 366930.92500 5407977.83700
SECONDARY_SE_QUAD_XY: 366765.56200 5401030.73200
SECONDARY_SW_QUAD_XY: 362171.48000 5401141.91900
RMSE_XY: 2.63000
IMAGE_SOURCE: BLACK AND WHITE FILM
SOURCE_IMAGE_ID: NAPP 9085-050
SOURCE_IMAGE_DATE: 1996 6 13
SOURCE_DEM_DATE: 1998 0 0
AGENCY: WESTERN MAPPING CENTER (WMC)
PRODUCER: WOOLPERT LLP
PRODUCTION_SYSTEM: INTERGRAPH ISPM, ISIR
COMPRESSION: UNDEFINED
STANDARD_VERSION: 1996 12
METADATA_DATE: 2001 8 23
DATA_FILE_SIZE: 41554710
BYTE_COUNT: 5415
