FILENAME: O4810609.NWS.1160071.tif
QUADRANGLE_NAME: ANTELOPE PASS
QUADRANT: NW
WEST_LONGITUDE: -107 0 0.00000
EAST_LONGITUDE: -106 56 15.00000
NORTH_LATITUDE: 48 52 30.00000
SOUTH_LATITUDE: 48 48 45.00000
PRODUCTION_DATE: 2001 8 23
RASTER_ORDER: LEFT_RIGHT/TOP_BOTTOM
BAND_ORGANIZATION: SINGLE FILE
BAND_CONTENT: BLACK&WHITE
BAND_CONTENT: UNDEFINED
BAND_CONTENT: UNDEFINED
BITS_PER_PIXEL: 8
SAMPLES_AND_LINES: 5421 7680
HORIZONTAL_DATUM: NAD83
HORIZONTAL_COORDINATE_SYSTEM: UTM
COORDINATE_ZONE: 13
HORIZONTAL_UNITS: meters
HORIZONTAL_RESOLUTION: 1.00000
SECONDARY_HORIZONTAL_DATUM: NAD27
XY_ORIGIN: 352820.00000 5415797.00000
SECONDARY_XY_ORIGIN: 352860.20200 5415574.70800
NATION: US
STATE: MT
NW_QUAD_CORNER_XY: 353353.21500 5415488.63100
NE_QUAD_CORNER_XY: 357935.68900 5415369.97300
SE_QUAD_CORNERY_XY: 357758.74400 5408422.86200
SW_QUAD_CORNER_XY: 353170.55900 5408541.55400
SECONDARY_NW_QUAD_XY: 353348.51600 5415269.68600
SECONDARY_NE_QUAD_XY: 357931.13700 5415151.02500
SECONDARY_SE_QUAD_XY: 357754.19300 5408203.91700
SECONDARY_SW_QUAD_XY: 353165.86000 5408322.61300
RMSE_XY: 2.84000
IMAGE_SOURCE: BLACK AND WHITE FILM
SOURCE_IMAGE_ID: NAPP 9101-057
SOURCE_IMAGE_DATE: 1996 7 15
SOURCE_DEM_DATE: 1998 0 0
AGENCY: WESTERN MAPPING CENTER (WMC)
PRODUCER: WOOLPERT LLP
PRODUCTION_SYSTEM: INTERGRAPH ISPM, ISIR
COMPRESSION: UNDEFINED
STANDARD_VERSION: 1996 12
METADATA_DATE: 2001 8 23
DATA_FILE_SIZE: 41638701
BYTE_COUNT: 5421
