FILENAME: O4810609.SES.1160072.tif
QUADRANGLE_NAME: ANTELOPE PASS
QUADRANT: SE
WEST_LONGITUDE: -106 56 15.00000
EAST_LONGITUDE: -106 52 30.00000
NORTH_LATITUDE: 48 48 45.00000
SOUTH_LATITUDE: 48 45 0.00000
PRODUCTION_DATE: 2001 8 23
RASTER_ORDER: LEFT_RIGHT/TOP_BOTTOM
BAND_ORGANIZATION: SINGLE FILE
BAND_CONTENT: BLACK&WHITE
BAND_CONTENT: UNDEFINED
BAND_CONTENT: UNDEFINED
BITS_PER_PIXEL: 8
SAMPLES_AND_LINES: 5420 7677
HORIZONTAL_DATUM: NAD83
HORIZONTAL_COORDINATE_SYSTEM: UTM
COORDINATE_ZONE: 13
HORIZONTAL_UNITS: meters
HORIZONTAL_RESOLUTION: 1.00000
SECONDARY_HORIZONTAL_DATUM: NAD27
XY_ORIGIN: 357232.00000 5408732.00000
SECONDARY_XY_ORIGIN: 357272.19100 5408509.79000
NATION: US
STATE: MT
NW_QUAD_CORNER_XY: 357758.74400 5408422.86200
NE_QUAD_CORNER_XY: 362346.95300 5408307.94000
SE_QUAD_CORNERY_XY: 362175.88400 5401360.86300
SW_QUAD_CORNER_XY: 357581.97000 5401475.81700
SECONDARY_NW_QUAD_XY: 357754.19300 5408203.91700
SECONDARY_NE_QUAD_XY: 362342.54800 5408088.99200
SECONDARY_SE_QUAD_XY: 362171.48000 5401141.91900
SECONDARY_SW_QUAD_XY: 357577.41900 5401256.87700
RMSE_XY: 3.47000
IMAGE_SOURCE: BLACK AND WHITE FILM
SOURCE_IMAGE_ID: NAPP 9085-067
SOURCE_IMAGE_DATE: 1996 6 13
SOURCE_DEM_DATE: 1998 0 0
AGENCY: WESTERN MAPPING CENTER (WMC)
PRODUCER: WOOLPERT LLP
PRODUCTION_SYSTEM: INTERGRAPH ISPM, ISIR
COMPRESSION: UNDEFINED
STANDARD_VERSION: 1996 12
METADATA_DATE: 2001 8 23
DATA_FILE_SIZE: 41614760
BYTE_COUNT: 5420
