FILENAME: O4810607.SWS.1164428.tif
QUADRANGLE_NAME: KAMINSKI HILL
QUADRANT: SW
WEST_LONGITUDE: -106 15 0.00000
EAST_LONGITUDE: -106 11 15.00000
NORTH_LATITUDE: 48 56 15.00000
SOUTH_LATITUDE: 48 52 30.00000
PRODUCTION_DATE: 2001 11 12
RASTER_ORDER: LEFT_RIGHT/TOP_BOTTOM
BAND_ORGANIZATION: SINGLE FILE
BAND_CONTENT: BLACK&WHITE
BAND_CONTENT: UNDEFINED
BAND_CONTENT: UNDEFINED
BITS_PER_PIXEL: 8
SAMPLES_AND_LINES: 5345 7635
HORIZONTAL_DATUM: NAD83
HORIZONTAL_COORDINATE_SYSTEM: UTM
COORDINATE_ZONE: 13
HORIZONTAL_UNITS: METERS
HORIZONTAL_RESOLUTION: 1.00000
SECONDARY_HORIZONTAL_DATUM: NAD27
XY_ORIGIN: 407996.00000 5421570.00000
SECONDARY_XY_ORIGIN: 408035.70800 5421347.54600
NATION: US
STATE: MT
NW_QUAD_CORNER_XY: 408458.48800 5421260.95600
NE_QUAD_CORNER_XY: 413035.47200 5421187.53800
SE_QUAD_CORNERY_XY: 412926.93900 5414240.02400
SW_QUAD_CORNER_XY: 408344.24100 5414313.46400
SECONDARY_NW_QUAD_XY: 408455.55200 5421041.97200
SECONDARY_NE_QUAD_XY: 413032.68300 5420968.55100
SECONDARY_SE_QUAD_XY: 412924.14900 5414021.04000
SECONDARY_SW_QUAD_XY: 408341.30400 5414094.48300
RMSE_XY: 2.86000
IMAGE_SOURCE: BLACK AND WHITE FILM
SOURCE_IMAGE_ID: NAPP 9122-128
SOURCE_IMAGE_DATE: 1996 9 11
SOURCE_DEM_DATE: 1998 0 0
AGENCY: WESTERN MAPPING CENTER (WMC)
PRODUCER: WOOLPERT LLP
PRODUCTION_SYSTEM: INTERGRAPH ISPM, ISIR
COMPRESSION: UNDEFINED
STANDARD_VERSION: 1996 12
METADATA_DATE: 2001 11 12
DATA_FILE_SIZE: 40814420
BYTE_COUNT: 5345
