FILENAME: O4810606.NES.1164413.tif
QUADRANGLE_NAME: GLASS HILL
QUADRANT: NE
WEST_LONGITUDE: -106 18 45.00000
EAST_LONGITUDE: -106 15 0.00000
NORTH_LATITUDE: 49 0 0.00000
SOUTH_LATITUDE: 48 56 15.00000
PRODUCTION_DATE: 2001 9 15
RASTER_ORDER: LEFT_RIGHT/TOP_BOTTOM
BAND_ORGANIZATION: SINGLE FILE
BAND_CONTENT: BLACK&WHITE
BAND_CONTENT: UNDEFINED
BAND_CONTENT: UNDEFINED
BITS_PER_PIXEL: 8
SAMPLES_AND_LINES: 5345 7640
HORIZONTAL_DATUM: NAD83
HORIZONTAL_COORDINATE_SYSTEM: UTM
COORDINATE_ZONE: 13
HORIZONTAL_UNITS: meters
HORIZONTAL_RESOLUTION: 1.00000
SECONDARY_HORIZONTAL_DATUM: NAD27
XY_ORIGIN: 403533.00000 5428595.00000
SECONDARY_XY_ORIGIN: 403572.74600 5428372.54800
NATION: US
NATION: CA
STATE: MT
NW_QUAD_CORNER_XY: 404001.59500 5428285.68200
NE_QUAD_CORNER_XY: 408572.84500 5428208.52000
SE_QUAD_CORNERY_XY: 408458.48800 5421260.95600
SW_QUAD_CORNER_XY: 403881.51900 5421338.14100
SECONDARY_NW_QUAD_XY: 403998.51200 5428066.69800
SECONDARY_NE_QUAD_XY: 408569.90900 5427989.53400
SECONDARY_SE_QUAD_XY: 408455.55200 5421041.97200
SECONDARY_SW_QUAD_XY: 403878.43500 5421119.15900
RMSE_XY: 4.44000
IMAGE_SOURCE: BLACK AND WHITE FILM
SOURCE_IMAGE_ID: NAPP 9122-085
SOURCE_IMAGE_DATE: 1996 9 11
SOURCE_DEM_DATE: 1998 0 0
AGENCY: WESTERN MAPPING CENTER (WMC)
PRODUCER: WOOLPERT LLP
PRODUCTION_SYSTEM: INTERGRAPH ISPM, ISIR
COMPRESSION: UNDEFINED
STANDARD_VERSION: 1996 12
METADATA_DATE: 2001 9 15
DATA_FILE_SIZE: 40841145
BYTE_COUNT: 5345
