FILENAME: O4810606.NWS.1164414.tif
QUADRANGLE_NAME: GLASS HILL
QUADRANT: NW
WEST_LONGITUDE: -106 22 30.00000
EAST_LONGITUDE: -106 18 45.00000
NORTH_LATITUDE: 49 0 0.00000
SOUTH_LATITUDE: 48 56 15.00000
PRODUCTION_DATE: 2001 9 15
RASTER_ORDER: LEFT_RIGHT/TOP_BOTTOM
BAND_ORGANIZATION: SINGLE FILE
BAND_CONTENT: BLACK&WHITE
BAND_CONTENT: UNDEFINED
BAND_CONTENT: UNDEFINED
BITS_PER_PIXEL: 8
SAMPLES_AND_LINES: 5351 7643
HORIZONTAL_DATUM: NAD83
HORIZONTAL_COORDINATE_SYSTEM: UTM
COORDINATE_ZONE: 13
HORIZONTAL_UNITS: meters
HORIZONTAL_RESOLUTION: 1.00000
SECONDARY_HORIZONTAL_DATUM: NAD27
XY_ORIGIN: 398956.00000 5428676.00000
SECONDARY_XY_ORIGIN: 398995.74000 5428453.51100
NATION: US
NATION: CA
STATE: MT
NW_QUAD_CORNER_XY: 399430.36100 5428366.60800
NE_QUAD_CORNER_XY: 404001.59500 5428285.68200
SE_QUAD_CORNERY_XY: 403881.51900 5421338.14100
SW_QUAD_CORNER_XY: 399304.56500 5421419.09100
SECONDARY_NW_QUAD_XY: 399427.13100 5428147.62700
SECONDARY_NE_QUAD_XY: 403998.51200 5428066.69800
SECONDARY_SE_QUAD_XY: 403878.43500 5421119.15900
SECONDARY_SW_QUAD_XY: 399301.33500 5421200.11200
RMSE_XY: 3.52000
IMAGE_SOURCE: BLACK AND WHITE FILM
SOURCE_IMAGE_ID: NAPP 9109-220
SOURCE_IMAGE_DATE: 1996 8 11
SOURCE_DEM_DATE: 1998 0 0
AGENCY: WESTERN MAPPING CENTER (WMC)
PRODUCER: WOOLPERT LLP
PRODUCTION_SYSTEM: INTERGRAPH ISPM, ISIR
COMPRESSION: UNDEFINED
STANDARD_VERSION: 1996 12
METADATA_DATE: 2001 9 15
DATA_FILE_SIZE: 40903044
BYTE_COUNT: 5351
