FILENAME: O4810605.NWS.1164366.tif
QUADRANGLE_NAME: ROANWOOD
QUADRANT: NW
WEST_LONGITUDE: -106 30 0.00000
EAST_LONGITUDE: -106 26 15.00000
NORTH_LATITUDE: 49 0 0.00000
SOUTH_LATITUDE: 48 56 15.00000
PRODUCTION_DATE: 2001 9 15
RASTER_ORDER: LEFT_RIGHT/TOP_BOTTOM
BAND_ORGANIZATION: SINGLE FILE
BAND_CONTENT: BLACK&WHITE
BAND_CONTENT: UNDEFINED
BAND_CONTENT: UNDEFINED
BITS_PER_PIXEL: 8
SAMPLES_AND_LINES: 5363 7651
HORIZONTAL_DATUM: NAD83
HORIZONTAL_COORDINATE_SYSTEM: UTM
COORDINATE_ZONE: 13
HORIZONTAL_UNITS: meters
HORIZONTAL_RESOLUTION: 1.00000
SECONDARY_HORIZONTAL_DATUM: NAD27
XY_ORIGIN: 389802.00000 5428849.00000
SECONDARY_XY_ORIGIN: 389841.73200 5428626.43800
NATION: US
NATION: CA
STATE: MT
NW_QUAD_CORNER_XY: 390287.94300 5428539.75600
NE_QUAD_CORNER_XY: 394859.14300 5428451.29900
SE_QUAD_CORNERY_XY: 394727.62700 5421503.80800
SW_QUAD_CORNER_XY: 390150.70700 5421592.29200
SECONDARY_NW_QUAD_XY: 390284.41900 5428320.78100
SECONDARY_NE_QUAD_XY: 394855.76600 5428232.32100
SECONDARY_SE_QUAD_XY: 394724.25000 5421284.83200
SECONDARY_SW_QUAD_XY: 390147.18300 5421373.31800
RMSE_XY: 2.97000
IMAGE_SOURCE: BLACK AND WHITE FILM
SOURCE_IMAGE_ID: NAPP 9109-096
SOURCE_IMAGE_DATE: 1996 8 11
SOURCE_DEM_DATE: 1998 0 0
AGENCY: WESTERN MAPPING CENTER (WMC)
PRODUCER: WOOLPERT LLP
PRODUCTION_SYSTEM: INTERGRAPH ISPM, ISIR
COMPRESSION: UNDEFINED
STANDARD_VERSION: 1996 12
METADATA_DATE: 2001 9 15
DATA_FILE_SIZE: 41037676
BYTE_COUNT: 5363
