FILENAME: O4810603.NES.1160098.tif
QUADRANGLE_NAME: COAL MINE CREEK WEST
QUADRANT: NE
WEST_LONGITUDE: -106 41 15.00000
EAST_LONGITUDE: -106 37 30.00000
NORTH_LATITUDE: 49 0 0.00000
SOUTH_LATITUDE: 48 56 15.00000
PRODUCTION_DATE: 2001 8 23
RASTER_ORDER: LEFT_RIGHT/TOP_BOTTOM
BAND_ORGANIZATION: SINGLE FILE
BAND_CONTENT: BLACK&WHITE
BAND_CONTENT: UNDEFINED
BAND_CONTENT: UNDEFINED
BITS_PER_PIXEL: 8
SAMPLES_AND_LINES: 5380 7662
HORIZONTAL_DATUM: NAD83
HORIZONTAL_COORDINATE_SYSTEM: UTM
COORDINATE_ZONE: 13
HORIZONTAL_UNITS: METERS
HORIZONTAL_RESOLUTION: 1.00000
SECONDARY_HORIZONTAL_DATUM: NAD27
XY_ORIGIN: 376071.00000 5429137.00000
SECONDARY_XY_ORIGIN: 376110.83100 5428914.39900
NATION: US
NATION: CA
STATE: MT
NW_QUAD_CORNER_XY: 376574.45300 5428827.72000
NE_QUAD_CORNER_XY: 381145.59700 5428727.96600
SE_QUAD_CORNERY_XY: 380996.92000 5421780.55900
SW_QUAD_CORNER_XY: 376420.05500 5421880.34200
SECONDARY_NW_QUAD_XY: 376570.48900 5428608.75400
SECONDARY_NE_QUAD_XY: 381141.78000 5428508.99700
SECONDARY_SE_QUAD_XY: 380993.10300 5421561.59100
SECONDARY_SW_QUAD_XY: 376416.09100 5421661.37800
RMSE_XY: 4.25000
IMAGE_SOURCE: BLACK AND WHITE FILM
SOURCE_IMAGE_ID: NAPP 9111-155
SOURCE_IMAGE_DATE: 1996 8 11
SOURCE_DEM_DATE: 1998 0 0
AGENCY: WESTERN MAPPING CENTER (WMC)
PRODUCER: WOOLPERT LLP
PRODUCTION_SYSTEM: INTERGRAPH ISPM, ISIR
COMPRESSION: UNDEFINED
STANDARD_VERSION: 1996 12
METADATA_DATE: 2001 9 18
DATA_FILE_SIZE: 41226940
BYTE_COUNT: 5380
