FILENAME: O4810603.NWS.1160099.tif
QUADRANGLE_NAME: COAL MINE CREEK WEST
QUADRANT: NW
WEST_LONGITUDE: -106 45 0.00000
EAST_LONGITUDE: -106 41 15.00000
NORTH_LATITUDE: 49 0 0.00000
SOUTH_LATITUDE: 48 56 15.00000
PRODUCTION_DATE: 2001 8 23
RASTER_ORDER: LEFT_RIGHT/TOP_BOTTOM
BAND_ORGANIZATION: SINGLE FILE
BAND_CONTENT: BLACK&WHITE
BAND_CONTENT: UNDEFINED
BAND_CONTENT: UNDEFINED
BITS_PER_PIXEL: 8
SAMPLES_AND_LINES: 5386 7665
HORIZONTAL_DATUM: NAD83
HORIZONTAL_COORDINATE_SYSTEM: UTM
COORDINATE_ZONE: 13
HORIZONTAL_UNITS: METERS
HORIZONTAL_RESOLUTION: 1.00000
SECONDARY_HORIZONTAL_DATUM: NAD27
XY_ORIGIN: 371494.00000 5429240.00000
SECONDARY_XY_ORIGIN: 371533.86600 5429017.38700
NATION: US
NATION: CA
STATE: MT
NW_QUAD_CORNER_XY: 372003.33000 5428931.24000
NE_QUAD_CORNER_XY: 376574.45300 5428827.72000
SE_QUAD_CORNERY_XY: 376420.05500 5421880.34200
SW_QUAD_CORNER_XY: 371843.21000 5421983.89400
SECONDARY_NW_QUAD_XY: 371999.21900 5428712.27700
SECONDARY_NE_QUAD_XY: 376570.48900 5428608.75400
SECONDARY_SE_QUAD_XY: 376416.09100 5421661.37800
SECONDARY_SW_QUAD_XY: 371839.09900 5421764.93200
RMSE_XY: 4.14000
IMAGE_SOURCE: BLACK AND WHITE FILM
SOURCE_IMAGE_ID: NAPP 9111-160
SOURCE_IMAGE_DATE: 1996 8 11
SOURCE_DEM_DATE: 1998 0 0
AGENCY: WESTERN MAPPING CENTER (WMC)
PRODUCER: WOOLPERT LLP
PRODUCTION_SYSTEM: INTERGRAPH ISPM, ISIR
COMPRESSION: UNDEFINED
STANDARD_VERSION: 1996 12
METADATA_DATE: 2001 9 18
DATA_FILE_SIZE: 41289076
BYTE_COUNT: 5386
