FILENAME: O4810602.NWS.1160087.tif
QUADRANGLE_NAME: LIGHTHOUSE HILL
QUADRANT: NW
WEST_LONGITUDE: -106 52 30.00000
EAST_LONGITUDE: -106 48 45.00000
NORTH_LATITUDE: 49 0 0.00000
SOUTH_LATITUDE: 48 56 15.00000
PRODUCTION_DATE: 2001 8 23
RASTER_ORDER: LEFT_RIGHT/TOP_BOTTOM
BAND_ORGANIZATION: SINGLE FILE
BAND_CONTENT: BLACK&WHITE
BAND_CONTENT: UNDEFINED
BAND_CONTENT: UNDEFINED
BITS_PER_PIXEL: 8
SAMPLES_AND_LINES: 5398 7673
HORIZONTAL_DATUM: NAD83
HORIZONTAL_COORDINATE_SYSTEM: UTM
COORDINATE_ZONE: 13
HORIZONTAL_UNITS: METERS
HORIZONTAL_RESOLUTION: 1.00000
SECONDARY_HORIZONTAL_DATUM: NAD27
XY_ORIGIN: 362340.00000 5429459.00000
SECONDARY_XY_ORIGIN: 362379.97000 5429236.39000
NATION: US
NATION: CA
STATE: MT
NW_QUAD_CORNER_XY: 362861.14700 5429149.57900
NE_QUAD_CORNER_XY: 367432.22700 5429038.52600
SE_QUAD_CORNERY_XY: 367266.38600 5422091.21200
SW_QUAD_CORNER_XY: 362689.58400 5422202.29800
SECONDARY_NW_QUAD_XY: 362856.74200 5428930.62300
SECONDARY_NE_QUAD_XY: 367427.96900 5428819.56700
SECONDARY_SE_QUAD_XY: 367262.12900 5421872.25400
SECONDARY_SW_QUAD_XY: 362685.17900 5421983.34400
RMSE_XY: 3.46000
IMAGE_SOURCE: BLACK AND WHITE FILM
SOURCE_IMAGE_ID: NAPP 9085-056
SOURCE_IMAGE_DATE: 1996 6 13
SOURCE_DEM_DATE: 1998 0 0
AGENCY: WESTERN MAPPING CENTER (WMC)
PRODUCER: WOOLPERT LLP
PRODUCTION_SYSTEM: INTERGRAPH ISPM, ISIR
COMPRESSION: UNDEFINED
STANDARD_VERSION: 1996 12
METADATA_DATE: 2001 9 18
DATA_FILE_SIZE: 41424252
BYTE_COUNT: 5398
