FILENAME: O4810602.SWS.1160089.tif
QUADRANGLE_NAME: LIGHTHOUSE HILL
QUADRANT: SW
WEST_LONGITUDE: -106 52 30.00000
EAST_LONGITUDE: -106 48 45.00000
NORTH_LATITUDE: 48 56 15.00000
SOUTH_LATITUDE: 48 52 30.00000
PRODUCTION_DATE: 2001 8 23
RASTER_ORDER: LEFT_RIGHT/TOP_BOTTOM
BAND_ORGANIZATION: SINGLE FILE
BAND_CONTENT: BLACK&WHITE
BAND_CONTENT: UNDEFINED
BAND_CONTENT: UNDEFINED
BITS_PER_PIXEL: 8
SAMPLES_AND_LINES: 5404 7673
HORIZONTAL_DATUM: NAD83
HORIZONTAL_COORDINATE_SYSTEM: UTM
COORDINATE_ZONE: 13
HORIZONTAL_UNITS: meters
HORIZONTAL_RESOLUTION: 1.00000
SECONDARY_HORIZONTAL_DATUM: NAD27
XY_ORIGIN: 362168.00000 5422511.00000
SECONDARY_XY_ORIGIN: 362208.01500 5422288.49700
NATION: US
STATE: MT
NW_QUAD_CORNER_XY: 362689.58400 5422202.29800
NE_QUAD_CORNER_XY: 367266.38600 5422091.21200
SE_QUAD_CORNERY_XY: 367100.70500 5415143.96600
SW_QUAD_CORNER_XY: 362518.18600 5415255.08500
SECONDARY_NW_QUAD_XY: 362685.17900 5421983.34400
SECONDARY_NE_QUAD_XY: 367262.12900 5421872.25400
SECONDARY_SE_QUAD_XY: 367096.44700 5414925.01100
SECONDARY_SW_QUAD_XY: 362513.78100 5415036.13400
RMSE_XY: 2.65000
IMAGE_SOURCE: BLACK AND WHITE FILM
SOURCE_IMAGE_ID: NAPP 9085-054
SOURCE_IMAGE_DATE: 1996 6 13
SOURCE_DEM_DATE: 1998 0 0
AGENCY: WESTERN MAPPING CENTER (WMC)
PRODUCER: WOOLPERT LLP
PRODUCTION_SYSTEM: INTERGRAPH ISPM, ISIR
COMPRESSION: UNDEFINED
STANDARD_VERSION: 1996 12
METADATA_DATE: 2001 8 23
DATA_FILE_SIZE: 41470296
BYTE_COUNT: 5404
