FILENAME: O4810601.NWS.1160067.tif
QUADRANGLE_NAME: THOENY
QUADRANT: NW
WEST_LONGITUDE: -107 0 0.00000
EAST_LONGITUDE: -106 56 15.00000
NORTH_LATITUDE: 49 0 0.00000
SOUTH_LATITUDE: 48 56 15.00000
PRODUCTION_DATE: 2001 8 23
RASTER_ORDER: LEFT_RIGHT/TOP_BOTTOM
BAND_ORGANIZATION: SINGLE FILE
BAND_CONTENT: BLACK&WHITE
BAND_CONTENT: UNDEFINED
BAND_CONTENT: UNDEFINED
BITS_PER_PIXEL: 8
SAMPLES_AND_LINES: 5410 7680
HORIZONTAL_DATUM: NAD83
HORIZONTAL_COORDINATE_SYSTEM: UTM
COORDINATE_ZONE: 13
HORIZONTAL_UNITS: meters
HORIZONTAL_RESOLUTION: 1.00000
SECONDARY_HORIZONTAL_DATUM: NAD27
XY_ORIGIN: 353186.00000 5429692.00000
SECONDARY_XY_ORIGIN: 353226.07300 5429469.39300
NATION: US
STATE: MT
NW_QUAD_CORNER_XY: 353719.05400 5429382.98400
NE_QUAD_CORNER_XY: 358290.08900 5429264.39800
SE_QUAD_CORNERY_XY: 358112.80400 5422317.15200
SW_QUAD_CORNER_XY: 353536.04600 5422435.77400
SECONDARY_NW_QUAD_XY: 353714.35500 5429164.03600
SECONDARY_NE_QUAD_XY: 358285.53700 5429045.44600
SECONDARY_SE_QUAD_XY: 358108.25200 5422098.20200
SECONDARY_SW_QUAD_XY: 353531.34800 5422216.82700
RMSE_XY: 2.56000
IMAGE_SOURCE: BLACK AND WHITE FILM
SOURCE_IMAGE_ID: NAPP 9101-061
SOURCE_IMAGE_DATE: 1996 7 15
SOURCE_DEM_DATE: 1998 0 0
AGENCY: WESTERN MAPPING CENTER (WMC)
PRODUCER: WOOLPERT LLP
PRODUCTION_SYSTEM: INTERGRAPH ISPM, ISIR
COMPRESSION: UNDEFINED
STANDARD_VERSION: 1996 12
METADATA_DATE: 2001 8 23
DATA_FILE_SIZE: 41554210
BYTE_COUNT: 5410
