FILENAME: O4810601.SWS.1160069.tif
QUADRANGLE_NAME: THOENY
QUADRANT: SW
WEST_LONGITUDE: -107 0 0.00000
EAST_LONGITUDE: -106 56 15.00000
NORTH_LATITUDE: 48 56 15.00000
SOUTH_LATITUDE: 48 52 30.00000
PRODUCTION_DATE: 2001 8 23
RASTER_ORDER: LEFT_RIGHT/TOP_BOTTOM
BAND_ORGANIZATION: SINGLE FILE
BAND_CONTENT: BLACK&WHITE
BAND_CONTENT: UNDEFINED
BAND_CONTENT: UNDEFINED
BITS_PER_PIXEL: 8
SAMPLES_AND_LINES: 5415 7681
HORIZONTAL_DATUM: NAD83
HORIZONTAL_COORDINATE_SYSTEM: UTM
COORDINATE_ZONE: 13
HORIZONTAL_UNITS: meters
HORIZONTAL_RESOLUTION: 1.00000
SECONDARY_HORIZONTAL_DATUM: NAD27
XY_ORIGIN: 353003.00000 5422745.00000
SECONDARY_XY_ORIGIN: 353043.13600 5422522.55000
NATION: US
STATE: MT
NW_QUAD_CORNER_XY: 353536.04600 5422435.77400
NE_QUAD_CORNER_XY: 358112.80400 5422317.15200
SE_QUAD_CORNERY_XY: 357935.68900 5415369.97300
SW_QUAD_CORNER_XY: 353353.21500 5415488.63100
SECONDARY_NW_QUAD_XY: 353531.34800 5422216.82700
SECONDARY_NE_QUAD_XY: 358108.25200 5422098.20200
SECONDARY_SE_QUAD_XY: 357931.13700 5415151.02500
SECONDARY_SW_QUAD_XY: 353348.51600 5415269.68600
RMSE_XY: 1.76000
IMAGE_SOURCE: BLACK AND WHITE FILM
SOURCE_IMAGE_ID: NAPP 9101-059
SOURCE_IMAGE_DATE: 1996 7 15
SOURCE_DEM_DATE: 1998 0 0
AGENCY: WESTERN MAPPING CENTER (WMC)
PRODUCER: WOOLPERT LLP
PRODUCTION_SYSTEM: INTERGRAPH ISPM, ISIR
COMPRESSION: UNDEFINED
STANDARD_VERSION: 1996 12
METADATA_DATE: 2001 8 23
DATA_FILE_SIZE: 41598030
BYTE_COUNT: 5415
