FILENAME: O4810764.NES.1137119.tif
QUADRANGLE_NAME: BURNETT FLATS EAST
QUADRANT: NE
WEST_LONGITUDE: -107 3 45.00000
EAST_LONGITUDE: -107 0 0.00000
NORTH_LATITUDE: 48 7 30.00000
SOUTH_LATITUDE: 48 3 45.00000
PRODUCTION_DATE: 2001 3 21
RASTER_ORDER: LEFT_RIGHT/TOP_BOTTOM
BAND_ORGANIZATION: SINGLE FILE
BAND_CONTENT: BLACK&WHITE
BAND_CONTENT: UNDEFINED
BAND_CONTENT: UNDEFINED
BITS_PER_PIXEL: 8
SAMPLES_AND_LINES: 5495 7683
HORIZONTAL_DATUM: NAD83
HORIZONTAL_COORDINATE_SYSTEM: UTM
COORDINATE_ZONE: 13
HORIZONTAL_UNITS: meters
HORIZONTAL_RESOLUTION: 1.00000
SECONDARY_HORIZONTAL_DATUM: NAD27
XY_ORIGIN: 345984.00000 5332559.00000
SECONDARY_XY_ORIGIN: 346026.01900 5332337.96700
NATION: US
STATE: MT
NW_QUAD_CORNER_XY: 346522.37600 5332250.91900
NE_QUAD_CORNER_XY: 351173.00600 5332128.10200
SE_QUAD_CORNERY_XY: 350992.47600 5325181.82400
SW_QUAD_CORNER_XY: 346336.20100 5325304.67100
SECONDARY_NW_QUAD_XY: 346517.53300 5332032.07600
SECONDARY_NE_QUAD_XY: 351168.31000 5331909.25400
SECONDARY_SE_QUAD_XY: 350987.78100 5324962.99000
SECONDARY_SW_QUAD_XY: 346331.35800 5325085.84000
RMSE_XY: 1.82000
IMAGE_SOURCE: BLACK AND WHITE FILM
SOURCE_IMAGE_ID: NAPP 9101-094
SOURCE_IMAGE_DATE: 1996 7 15
SOURCE_DEM_DATE: 1995 0 0
AGENCY: WESTERN MAPPING CENTER (WMC)
PRODUCER: WOOLPERT LLP
PRODUCTION_SYSTEM: INTERGRAPH ISPM, ISIR
COMPRESSION: UNDEFINED
STANDARD_VERSION: 1996 12
METADATA_DATE: 2001 3 21
DATA_FILE_SIZE: 42223580
BYTE_COUNT: 5495
