FILENAME: O4810763.NES.1137107.tif
QUADRANGLE_NAME: BURNETT FLATS WEST
QUADRANT: NE
WEST_LONGITUDE: -107 11 15.00000
EAST_LONGITUDE: -107 7 30.00000
NORTH_LATITUDE: 48 7 30.00000
SOUTH_LATITUDE: 48 3 45.00000
PRODUCTION_DATE: 2001 3 1
RASTER_ORDER: LEFT_RIGHT/TOP_BOTTOM
BAND_ORGANIZATION: SINGLE FILE
BAND_CONTENT: BLACK&WHITE
BAND_CONTENT: UNDEFINED
BAND_CONTENT: UNDEFINED
BITS_PER_PIXEL: 8
SAMPLES_AND_LINES: 5506 7689
HORIZONTAL_DATUM: NAD83
HORIZONTAL_COORDINATE_SYSTEM: UTM
COORDINATE_ZONE: 13
HORIZONTAL_UNITS: meters
HORIZONTAL_RESOLUTION: 1.00000
SECONDARY_HORIZONTAL_DATUM: NAD27
XY_ORIGIN: 336671.00000 5332815.00000
SECONDARY_XY_ORIGIN: 336713.43100 5332594.28400
NATION: US
STATE: MT
NW_QUAD_CORNER_XY: 337221.17600 5332507.90000
NE_QUAD_CORNER_XY: 341871.76600 5332377.51900
SE_QUAD_CORNERY_XY: 341679.94400 5325431.30000
SW_QUAD_CORNER_XY: 337023.70800 5325561.71100
SECONDARY_NW_QUAD_XY: 337216.04000 5332289.06400
SECONDARY_NE_QUAD_XY: 341866.77600 5332158.67900
SECONDARY_SE_QUAD_XY: 341674.95500 5325212.47300
SECONDARY_SW_QUAD_XY: 337018.57200 5325342.88900
RMSE_XY: 2.03000
IMAGE_SOURCE: BLACK AND WHITE FILM
SOURCE_IMAGE_ID: NAPP 9101-206
SOURCE_IMAGE_DATE: 1996 7 15
SOURCE_DEM_DATE: 1995 0 0
AGENCY: WESTERN MAPPING CENTER (WMC)
PRODUCER: WOOLPERT LLP
PRODUCTION_SYSTEM: INTERGRAPH ISPM, ISIR
COMPRESSION: UNDEFINED
STANDARD_VERSION: 1996 12
METADATA_DATE: 2001 3 1
DATA_FILE_SIZE: 42341140
BYTE_COUNT: 5506
