FILENAME: O4810761.NES.1116562.tif
QUADRANGLE_NAME: HARB SW
QUADRANT: NE
WEST_LONGITUDE: -107 26 15.00000
EAST_LONGITUDE: -107 22 30.00000
NORTH_LATITUDE: 48 7 30.00000
SOUTH_LATITUDE: 48 3 45.00000
PRODUCTION_DATE: 1993 9 22
RASTER_ORDER: LEFT_RIGHT/TOP_BOTTOM
BAND_ORGANIZATION: SINGLE FILE
BAND_CONTENT: BLACK&WHITE
BAND_CONTENT: UNDEFINED
BAND_CONTENT: UNDEFINED
BITS_PER_PIXEL: 8
SAMPLES_AND_LINES: 5523 7696
HORIZONTAL_DATUM: NAD83
HORIZONTAL_COORDINATE_SYSTEM: UTM
COORDINATE_ZONE: 13
HORIZONTAL_UNITS: METERS
HORIZONTAL_RESOLUTION: 1.00000
SECONDARY_HORIZONTAL_DATUM: NAD27
XY_ORIGIN: 318048.00000 5333369.00000
SECONDARY_XY_ORIGIN: 318091.18300 5333148.86900
NATION: US
NATION: "SCIENCE
STATE: MT
NW_QUAD_CORNER_XY: 318619.03200 5333067.25000
NE_QUAD_CORNER_XY: 323269.53400 5332921.73800
SE_QUAD_CORNERY_XY: 323055.12500 5325975.64700
SW_QUAD_CORNER_XY: 318398.97500 5326121.19300
SECONDARY_NW_QUAD_XY: 318613.30900 5332848.43200
SECONDARY_NE_QUAD_XY: 323263.95800 5332702.91600
SECONDARY_SE_QUAD_XY: 323049.54900 5325756.83800
SECONDARY_SW_QUAD_XY: 318393.25200 5325902.38900
RMSE_XY: 10.00000
IMAGE_SOURCE: BLACK AND WHITE FILM
SOURCE_IMAGE_ID: NAPP 9127 136
SOURCE_IMAGE_DATE: 1996 07 15
SOURCE_DEM_DATE: 1977 00 00
AGENCY: WESTERN MAPPING CENTER (WMC)
PRODUCER: UNDEFINED
PRODUCTION_SYSTEM: GIS/MAGIC
COMPRESSION: UNDEFINED
STANDARD_VERSION: 1996 12
METADATA_DATE: 2000 11 15
DATA_FILE_SIZE: 42510531
BYTE_COUNT: 5523
