FILENAME: O4810759.NES.1116666.tif
QUADRANGLE_NAME: HORSE PASTURE COULEE
QUADRANT: NE
WEST_LONGITUDE: -107 41 15.00000
EAST_LONGITUDE: -107 37 30.00000
NORTH_LATITUDE: 48 7 30.00000
SOUTH_LATITUDE: 48 3 45.00000
PRODUCTION_DATE: 2000 11 6
RASTER_ORDER: LEFT_RIGHT/TOP_BOTTOM
BAND_ORGANIZATION: SINGLE FILE
BAND_CONTENT: BLACK&WHITE
BAND_CONTENT: UNDEFINED
BAND_CONTENT: UNDEFINED
BITS_PER_PIXEL: 8
SAMPLES_AND_LINES: 5546 7711
HORIZONTAL_DATUM: NAD83
HORIZONTAL_COORDINATE_SYSTEM: UTM
COORDINATE_ZONE: 13
HORIZONTAL_UNITS: METERS
HORIZONTAL_RESOLUTION: 1.00000
SECONDARY_HORIZONTAL_DATUM: NAD27
XY_ORIGIN: 299423.00000 5333989.00000
SECONDARY_XY_ORIGIN: 299466.39800 5333768.84600
NATION: US
NATION: "SCIENCE
STATE: MT
NW_QUAD_CORNER_XY: 300017.26300 5333687.13600
NE_QUAD_CORNER_XY: 304667.66800 5333526.48900
SE_QUAD_CORNERY_XY: 304430.66400 5326580.53900
SW_QUAD_CORNER_XY: 299774.60900 5326741.22500
SECONDARY_NW_QUAD_XY: 300010.95300 5333468.33800
SECONDARY_NE_QUAD_XY: 304661.50400 5333307.68500
SECONDARY_SE_QUAD_XY: 304424.50100 5326361.74900
SECONDARY_SW_QUAD_XY: 299768.29900 5326522.44000
RMSE_XY: 0.90000
IMAGE_SOURCE: BLACK AND WHITE FILM
SOURCE_IMAGE_ID: NAPP 9131 092
SOURCE_IMAGE_DATE: 1996 07 29
SOURCE_DEM_DATE: 1977 00 00
AGENCY: WESTERN MAPPING CENTER (WMC)
PRODUCER: UNDEFINED
PRODUCTION_SYSTEM: GIS/MAGIC
COMPRESSION: UNDEFINED
STANDARD_VERSION: 1996 12
METADATA_DATE: 2000 11 15
DATA_FILE_SIZE: 42770752
BYTE_COUNT: 5546
