FILENAME: O4810758.SES.1112704.tif
QUADRANGLE_NAME: MITCHELL CORNER
QUADRANT: SE
WEST_LONGITUDE: -107 48 45.00000
EAST_LONGITUDE: -107 45 0.00000
NORTH_LATITUDE: 48 3 45.00000
SOUTH_LATITUDE: 48 0 0.00000
PRODUCTION_DATE: 2000 11 6
RASTER_ORDER: LEFT_RIGHT/TOP_BOTTOM
BAND_ORGANIZATION: SINGLE FILE
BAND_CONTENT: BLACK&WHITE
BAND_CONTENT: UNDEFINED
BAND_CONTENT: UNDEFINED
BITS_PER_PIXEL: 8
SAMPLES_AND_LINES: 5563 7719
HORIZONTAL_DATUM: NAD83
HORIZONTAL_COORDINATE_SYSTEM: UTM
COORDINATE_ZONE: 13
HORIZONTAL_UNITS: METERS
HORIZONTAL_RESOLUTION: 1.00000
SECONDARY_HORIZONTAL_DATUM: NAD27
XY_ORIGIN: 289857.00000 5327376.00000
SECONDARY_XY_ORIGIN: 289900.48500 5327155.75700
NATION: US
NATION: "SCIENCE
STATE: MT
NW_QUAD_CORNER_XY: 290462.57600 5327073.95300
NE_QUAD_CORNER_XY: 295118.58000 5326905.69600
SE_QUAD_CORNERY_XY: 294870.52100 5319959.88200
SW_QUAD_CORNER_XY: 290208.87200 5320128.17700
SECONDARY_NW_QUAD_XY: 290455.97300 5326855.17800
SECONDARY_NE_QUAD_XY: 295112.12300 5326686.91600
SECONDARY_SE_QUAD_XY: 294864.06500 5319741.11600
SECONDARY_SW_QUAD_XY: 290202.26900 5319909.41700
RMSE_XY: 1.30000
IMAGE_SOURCE: BLACK AND WHITE FILM
SOURCE_IMAGE_ID: NAPP 9131 220
SOURCE_IMAGE_DATE: 1996 07 29
SOURCE_DEM_DATE: 1977 00 00
AGENCY: WESTERN MAPPING CENTER (WMC)
PRODUCER: UNDEFINED
PRODUCTION_SYSTEM: GIS/MAGIC
COMPRESSION: UNDEFINED
STANDARD_VERSION: 1996 12
METADATA_DATE: 2000 11 15
DATA_FILE_SIZE: 42946360
BYTE_COUNT: 5563
