FILENAME: O4810756.SWS.1137118.tif
QUADRANGLE_NAME: HARDPAN COULEE
QUADRANT: SW
WEST_LONGITUDE: -107 7 30.00000
EAST_LONGITUDE: -107 3 45.00000
NORTH_LATITUDE: 48 11 15.00000
SOUTH_LATITUDE: 48 7 30.00000
PRODUCTION_DATE: 2001 3 21
RASTER_ORDER: LEFT_RIGHT/TOP_BOTTOM
BAND_ORGANIZATION: SINGLE FILE
BAND_CONTENT: BLACK&WHITE
BAND_CONTENT: UNDEFINED
BAND_CONTENT: UNDEFINED
BITS_PER_PIXEL: 8
SAMPLES_AND_LINES: 5495 7686
HORIZONTAL_DATUM: NAD83
HORIZONTAL_COORDINATE_SYSTEM: UTM
COORDINATE_ZONE: 13
HORIZONTAL_UNITS: meters
HORIZONTAL_RESOLUTION: 1.00000
SECONDARY_HORIZONTAL_DATUM: NAD27
XY_ORIGIN: 341519.00000 5339631.00000
SECONDARY_XY_ORIGIN: 341561.10400 5339410.14600
NATION: US
STATE: MT
NW_QUAD_CORNER_XY: 342063.77700 5339323.80300
NE_QUAD_CORNER_XY: 346708.73500 5339197.23400
SE_QUAD_CORNERY_XY: 346522.37600 5332250.91900
SW_QUAD_CORNER_XY: 341871.76600 5332377.51900
SECONDARY_NW_QUAD_XY: 342058.78700 5339104.95100
SECONDARY_NE_QUAD_XY: 346703.89200 5338978.37800
SECONDARY_SE_QUAD_XY: 346517.53300 5332032.07600
SECONDARY_SW_QUAD_XY: 341866.77600 5332158.67900
RMSE_XY: 1.97000
IMAGE_SOURCE: BLACK AND WHITE FILM
SOURCE_IMAGE_ID: NAPP 9101-147
SOURCE_IMAGE_DATE: 1996 7 15
SOURCE_DEM_DATE: 1999 0 0
AGENCY: WESTERN MAPPING CENTER (WMC)
PRODUCER: WOOLPERT LLP
PRODUCTION_SYSTEM: INTERGRAPH ISPM, ISIR
COMPRESSION: UNDEFINED
STANDARD_VERSION: 1996 12
METADATA_DATE: 2001 3 21
DATA_FILE_SIZE: 42240065
BYTE_COUNT: 5495
