FILENAME: O4810754.NWS.1116599.tif
QUADRANGLE_NAME: FLAT COULEE
QUADRANT: NW
WEST_LONGITUDE: -107 22 30.00000
EAST_LONGITUDE: -107 18 45.00000
NORTH_LATITUDE: 48 15 0.00000
SOUTH_LATITUDE: 48 11 15.00000
PRODUCTION_DATE: 2000 11 7
RASTER_ORDER: LEFT_RIGHT/TOP_BOTTOM
BAND_ORGANIZATION: SINGLE FILE
BAND_CONTENT: BLACK&WHITE
BAND_CONTENT: UNDEFINED
BAND_CONTENT: UNDEFINED
BITS_PER_PIXEL: 8
SAMPLES_AND_LINES: 5506 7692
HORIZONTAL_DATUM: NAD83
HORIZONTAL_COORDINATE_SYSTEM: UTM
COORDINATE_ZONE: 13
HORIZONTAL_UNITS: METERS
HORIZONTAL_RESOLUTION: 1.00000
SECONDARY_HORIZONTAL_DATUM: NAD27
XY_ORIGIN: 323134.00000 5347116.00000
SECONDARY_XY_ORIGIN: 323176.78500 5346895.87900
NATION: US
NATION: "SCIENCE
STATE: MT
NW_QUAD_CORNER_XY: 323698.98800 5346814.11000
NE_QUAD_CORNER_XY: 328338.20100 5346672.44900
SE_QUAD_CORNERY_XY: 328129.02700 5339726.19800
SW_QUAD_CORNER_XY: 323484.15500 5339867.89300
SECONDARY_NW_QUAD_XY: 323693.41100 5346595.26300
SECONDARY_NE_QUAD_XY: 328332.77100 5346453.59800
SECONDARY_SE_QUAD_XY: 328123.59700 5339507.35800
SECONDARY_SW_QUAD_XY: 323478.57900 5339649.05700
RMSE_XY: 1.10000
IMAGE_SOURCE: BLACK AND WHITE FILM
SOURCE_IMAGE_ID: NAPP 9127 089
SOURCE_IMAGE_DATE: 1996 07 15
SOURCE_DEM_DATE: 1977 00 00
AGENCY: WESTERN MAPPING CENTER (WMC)
PRODUCER: UNDEFINED
PRODUCTION_SYSTEM: GIS/MAGIC
COMPRESSION: UNDEFINED
STANDARD_VERSION: 1996 12
METADATA_DATE: 2000 11 15
DATA_FILE_SIZE: 42357658
BYTE_COUNT: 5506
